BEGIN:VCALENDAR
VERSION:2.0
PRODID:-//ChamberMaster//Event Calendar 2.0//EN
METHOD:PUBLISH
X-PUBLISHED-TTL:P3D
REFRESH-INTERVAL:P3D
CALSCALE:GREGORIAN
BEGIN:VEVENT
DTSTART:20260301T000000Z
DTEND:20260301T050000Z
X-MICROSOFT-CDO-ALLDAYEVENT:FALSE
SUMMARY:Zellaphant Books: Save Zella Fundraiser
DESCRIPTION:BBQ\, Music\, Bake Sale\, Silent Auction\, Raffles and more!\n\n\n\nZella\, our sweet shop dog\, mascot\, and best friend needs our help after becoming sick recently. For more of the story\, visit our Facebook or Instagram!\n\n\n\nWant to help sponsor our event? Email us! zellaphantbooks@gmail.com
X-ALT-DESC;FMTTYPE=text/html:BBQ\, Music\, Bake Sale\, Silent Auction\, Raffles and more!<br />\n<br />\nZella\, our sweet shop dog\, mascot\, and best friend needs our help after becoming sick recently. For more of the story\, visit our Facebook or Instagram!<br />\n<br />\nWant to help sponsor our event? Email us! zellaphantbooks@gmail.com
LOCATION:Horizon Event Center 2100 NW 100th St. Clive\, IA
UID:e.1185.17719
SEQUENCE:3
DTSTAMP:20260419T164725Z
URL:https://businesses.uniquelyurbandale.com/events/details/zellaphant-books-save-zella-fundraiser-17719
END:VEVENT

END:VCALENDAR
