BEGIN:VCALENDAR
VERSION:2.0
PRODID:-//ChamberMaster//Event Calendar 2.0//EN
METHOD:PUBLISH
X-PUBLISHED-TTL:P3D
REFRESH-INTERVAL:P3D
CALSCALE:GREGORIAN
BEGIN:VEVENT
DTSTART:20250502T160000Z
DTEND:20250502T180000Z
X-MICROSOFT-CDO-ALLDAYEVENT:FALSE
SUMMARY:Women Helping Women 2025
DESCRIPTION:Join us as we celebrate 27 years of uplifting our community and ensuring that mental healthcare remains accessible to those who need it most in Central Iowa. This year\, we are proud to honor Mary Gottschalk as our 2025 Honoree\, recognizing her dedication to making a meaningful impact in the lives of others.\n\n\n\nThe event will feature a thought-provoking panel discussion exploring the impact of social media on mental health. Together we'll address the current challenges while highlighting ways we can all harness the positive potential of these platforms.\n\n\n\nAttendees will also have the opportunity to explore interactive booths showcasing the therapeutic modalities offered at the Center\, providing a hands-on experience of the innovative care we provide.\n\n\n\nProceeds from Women Helping Women directly support counseling\, education\, training and other vital services for women\, children and families who are underinsured or from low-income households.\n\n\n\nAmazing sponsorship opportunities and elevated ticket levels are available for those looking to support this mission in a deeper way. Elevated tickets\, starting at $125\, offer a premium experience\, while general reservations to the luncheon are $75 and are available for purchase. We look forward to gathering with you for this special occasion where your support helps transform lives. Be sure to follow us for updates and visit mindspiritcenter.org/whw for more information.
X-ALT-DESC;FMTTYPE=text/html:<span style="font-family:roboto\,sans-serif\; font-size:14px">Join us as we celebrate 27 years of uplifting our community and ensuring that mental healthcare remains accessible to those who need it most in Central Iowa. This year\, we are proud to honor <strong>Mary Gottschalk</strong> as our 2025 Honoree\, recognizing her dedication to making a meaningful impact in the lives of others.</span><br />\n<br />\n<span style="font-family:roboto\,sans-serif\; font-size:14px">The event will <strong>feature a thought-provoking panel discussion</strong>&nbsp\;exploring the impact of social media on mental health. Together we&rsquo\;ll address the current challenges while highlighting ways we can all harness the positive potential of these platforms.</span><br />\n<br />\n<span style="font-family:roboto\,sans-serif\; font-size:14px">Attendees will also have the opportunity to explore interactive booths showcasing the therapeutic modalities offered at the Center\, providing a hands-on experience of the innovative care we provide.</span><br />\n<br />\n<span style="font-family:roboto\,sans-serif\; font-size:14px">Proceeds from Women Helping Women directly support counseling\, education\, training and other vital services for women\, children and families who are underinsured or from low-income households.</span><br />\n<br />\n<span style="font-family:roboto\,sans-serif\; font-size:14px">Amazing sponsorship opportunities and elevated ticket levels are available for those looking to support this mission in a deeper way. Elevated tickets\, starting at $125\, offer a premium experience\, while general reservations to the luncheon are $75 and are available for purchase. We look forward to gathering with you for this special occasion where your support helps transform lives. Be sure to follow us for updates and visit mindspiritcenter.org/whw for more information.</span>
LOCATION:Meadows Event Center at Prairie Meadows 1 Prairie Meadows Drive Altoona\, Iowa\, 50009
UID:e.1185.17083
SEQUENCE:3
DTSTAMP:20260421T112137Z
URL:https://businesses.uniquelyurbandale.com/events/details/women-helping-women-2025-17083
END:VEVENT

END:VCALENDAR
