BEGIN:VCALENDAR
VERSION:2.0
PRODID:-//ChamberMaster//Event Calendar 2.0//EN
METHOD:PUBLISH
X-PUBLISHED-TTL:P3D
REFRESH-INTERVAL:P3D
CALSCALE:GREGORIAN
BEGIN:VEVENT
DTSTART:20241208T193000Z
DTEND:20241208T230000Z
X-MICROSOFT-CDO-ALLDAYEVENT:FALSE
SUMMARY:WMFC Christmas Tour of Homes
DESCRIPTION:Begin your holiday season by touring homes beautifully decorated for the festivities. Tour the lovely homes with your friends\, siblings\, significant other\, or make it a mother/daughter date. This is a fundraiser for the Wonderfully Made Family Camp. WMFC is a retreat for families who have a child with a special need\, disability\, or chronic illness. They only pay a small registration fee and the rest is raised in fundraisers and donations. We will also have raffle tickets for sale for some amazing gift baskets!
X-ALT-DESC;FMTTYPE=text/html:Begin your holiday season by touring homes beautifully decorated for the festivities. Tour the lovely homes with your friends\, siblings\, significant other\, or make it a mother/daughter date. This is a fundraiser for the Wonderfully Made Family Camp. WMFC is a retreat for families who have a child with a special need\, disability\, or chronic illness. They only pay a small registration fee and the rest is raised in fundraisers and donations. We will also have raffle tickets for sale for some amazing gift baskets!
LOCATION:3708 132nd Cir.\; Urbandale and other homes in the area
UID:e.1185.15949
SEQUENCE:3
DTSTAMP:20260421T031246Z
URL:https://businesses.uniquelyurbandale.com/events/details/wmfc-christmas-tour-of-homes-15949
END:VEVENT

END:VCALENDAR
