BEGIN:VCALENDAR
VERSION:2.0
PRODID:-//ChamberMaster//Event Calendar 2.0//EN
METHOD:PUBLISH
X-PUBLISHED-TTL:P3D
REFRESH-INTERVAL:P3D
CALSCALE:GREGORIAN
BEGIN:VEVENT
DTSTART:20250103T173000Z
DTEND:20250103T183000Z
X-MICROSOFT-CDO-ALLDAYEVENT:FALSE
SUMMARY:Windsor Heights Chamber Leadership Meeting
DESCRIPTION:The Windsor Heights Chamber activities are designed by the leadership team.  They meet every other month over the lunch hour.  \n\n\n\nInterested in joining the leadership team\, let us know!  Call Tiffany Menke at 515-331-6855.
X-ALT-DESC;FMTTYPE=text/html:The Windsor Heights Chamber activities are designed by the leadership team.&nbsp\; They meet every other month over the lunch hour.&nbsp\;&nbsp\;<br />\n<br />\nInterested in joining the leadership team\, let us know!&nbsp\; Call Tiffany Menke at 515-331-6855.&nbsp\;&nbsp\;
LOCATION:Aisha R. Syed Board Room 2830 100th St.\, Ste. 110 Urbandale\, IA 50322
UID:e.1185.15911
SEQUENCE:3
DTSTAMP:20260420T163012Z
URL:https://businesses.uniquelyurbandale.com/events/details/windsor-heights-chamber-leadership-meeting-15911
END:VEVENT

END:VCALENDAR
