BEGIN:VCALENDAR
VERSION:2.0
PRODID:-//ChamberMaster//Event Calendar 2.0//EN
METHOD:PUBLISH
X-PUBLISHED-TTL:P3D
REFRESH-INTERVAL:P3D
CALSCALE:GREGORIAN
BEGIN:VEVENT
DTSTART:20200909T133000Z
DTEND:20200909T143000Z
X-MICROSOFT-CDO-ALLDAYEVENT:FALSE
SUMMARY:Virtual - KEY in Des Moines
DESCRIPTION:KEY in Des Moines stands for Keeping Educated Youth in Des Moines.  \n\n\n\nIt is a program designed to connect employers with area colleges and universities for workforce attraction.  Every other month the group hosts free educational sessions for businesses throughout Central Iowa.  KEY in Des Moines is a division of the Urbandale Chamber of Commerce.\n\n\n\nThis month the KEY in Des Moines task force would like to hear from employers!  We will begin with introductions\, then break out into discussion groups to discuss current challenges for area employers.  This feedback will help the committee provide content in 2020/2021 that is of upmost importance to are area employers.  \n\n\n\nWe look forward to reconnecting after a long summer!
X-ALT-DESC;FMTTYPE=text/html:<span style="font-family: Tahoma\, sans-serif\; font-size: 14.6667px\;">KEY in Des Moines stands for Keeping Educated Youth in Des Moines. &nbsp\;</span><br style="font-family: Tahoma\, sans-serif\; font-size: 14.6667px\;" />\n<br style="font-family: Tahoma\, sans-serif\; font-size: 14.6667px\;" />\n<span style="font-family: Tahoma\, sans-serif\; font-size: 14.6667px\;">It is a program designed to connect employers with area colleges and universities for workforce attraction. &nbsp\;Every other month the group hosts free educational sessions for businesses throughout Central Iowa.&nbsp\; KEY in Des Moines is a division of the Urbandale Chamber of Commerce.</span><br style="font-family: Tahoma\, sans-serif\; font-size: 14.6667px\;" />\n<br style="font-family: Tahoma\, sans-serif\; font-size: 14.6667px\;" />\n<span style="font-family: Tahoma\, sans-serif\; font-size: 14.6667px\;">This month the KEY in Des Moines task force would like to hear from employers!&nbsp\; We will begin with introductions\, then break</span><span style="font-family: Tahoma\, sans-serif\; font-size: 14.6667px\;">&nbsp\;out into discussion groups to discuss current challenges for area employers.&nbsp\; This feedback will help the committee provide content in 2020/2021 that is of upmost importance to are area employers.&nbsp\;&nbsp\;</span><br style="font-family: Tahoma\, sans-serif\; font-size: 14.6667px\;" />\n<br style="font-family: Tahoma\, sans-serif\; font-size: 14.6667px\;" />\n<span style="font-family: Tahoma\, sans-serif\; font-size: 14.6667px\;">We look forward to reconnecting after a long summer!</span>
LOCATION:Virtual - the Zoom information will be provided to everyone who registers through their registration confirmation.
UID:e.1185.10777
SEQUENCE:3
DTSTAMP:20260424T025001Z
URL:https://businesses.uniquelyurbandale.com/events/details/virtual-key-in-des-moines-10777
END:VEVENT

END:VCALENDAR
