BEGIN:VCALENDAR
VERSION:2.0
PRODID:-//ChamberMaster//Event Calendar 2.0//EN
METHOD:PUBLISH
X-PUBLISHED-TTL:P3D
REFRESH-INTERVAL:P3D
CALSCALE:GREGORIAN
BEGIN:VEVENT
DTSTART:20200507T210000Z
DTEND:20200507T220000Z
X-MICROSOFT-CDO-ALLDAYEVENT:FALSE
SUMMARY:Virtual genYPM - Hosted by Sara Velander - Country Financial
DESCRIPTION:This month\, we are taking genYPM online for networking and movie trivia via Zoom. genYP members will be split into small teams to answer trivia questions to network while having fun! Brush up on your 80s movie trivia and join us! \n\n \nThank you to our 2020 genYP Program Investors!\n\nParty On the Lake\n\nShade Tree Auto\n\nBrokers International\n\nTwo Rivers Bank and Trust
X-ALT-DESC;FMTTYPE=text/html:<span background-color:="" font-size:="" style="color: rgb(51\, 51\, 51)\; font-family: sans-serif\, Arial\, Verdana\, " trebuchet="">This month\, we are taking genYPM online for networking and movie trivia via Zoom. genYP members will be split into small teams to answer trivia questions to network while having fun! Brush up on your 80s movie trivia and join us!&nbsp\;<br>\n&nbsp\;</span>\n<div style="text-align: center\;"><strong style="font-size: 16px\; text-align: center\;">Thank you to our 2020 genYP Program Investors!<br>\n<a href="http://businesses.uniquelyurbandale.com/list/member/party-on-the-lake-6029">Party On the Lake</a><br>\n<a href="http://businesses.uniquelyurbandale.com/list/member/shade-tree-auto-3067">Shade Tree Auto</a><br>\n<a href="http://businesses.uniquelyurbandale.com/list/member/brokers-international-4648">Brokers International</a><br>\n<a href="http://businesses.uniquelyurbandale.com/list/member/two-rivers-bank-trust-1999">Two Rivers Bank and Trust</a></strong></div>\n
LOCATION:Registered attendees will receive a Zoom link prior to the event start.
UID:e.1185.10825
SEQUENCE:3
DTSTAMP:20260423T214828Z
URL:https://businesses.uniquelyurbandale.com/events/details/virtual-genypm-hosted-by-sara-velander-country-financial-10825
END:VEVENT

END:VCALENDAR
