BEGIN:VCALENDAR
VERSION:2.0
PRODID:-//ChamberMaster//Event Calendar 2.0//EN
METHOD:PUBLISH
X-PUBLISHED-TTL:P3D
REFRESH-INTERVAL:P3D
CALSCALE:GREGORIAN
BEGIN:VEVENT
DTSTART:20250313T130000Z
DTEND:20250313T140000Z
X-MICROSOFT-CDO-ALLDAYEVENT:FALSE
SUMMARY:Urbandale Downtown Social
DESCRIPTION:The Downtown Social is a monthly morning business gathering. It is an energizing and welcoming event designed to foster connections among the downtown businesses in Urbandale. Held on the second Thursday of every month\, we will meet at a different downtown business. Business owners and their teams will have the opportunity to mingle\, exchange business cards\, discuss opportunities\, and even collaborate on local projects or events.\n\n\n\nAs a downtown Urbandale business\, we hope you will join us for coffee and socializing!
X-ALT-DESC;FMTTYPE=text/html:The Downtown Social is a monthly morning business gathering. It is an energizing and welcoming event designed to foster connections among the downtown businesses in Urbandale. Held on the second Thursday of every month\, we will meet at a different downtown business. Business owners and their teams will have the opportunity to mingle\, exchange business cards\, discuss opportunities\, and even collaborate on local projects or events.<br />\n<br />\nAs a downtown Urbandale business\, we hope you will join us for coffee and socializing!&nbsp\;
LOCATION:Kading Properties | 7008 Madison Ave. | Urbandale
UID:e.1185.16109
SEQUENCE:3
DTSTAMP:20260420T133155Z
URL:https://businesses.uniquelyurbandale.com/events/details/urbandale-downtown-social-16109
END:VEVENT

END:VCALENDAR
