BEGIN:VCALENDAR
VERSION:2.0
PRODID:-//ChamberMaster//Event Calendar 2.0//EN
METHOD:PUBLISH
X-PUBLISHED-TTL:P3D
REFRESH-INTERVAL:P3D
CALSCALE:GREGORIAN
BEGIN:VEVENT
DTSTART:20200217T220000Z
DTEND:20200217T230000Z
X-MICROSOFT-CDO-ALLDAYEVENT:FALSE
SUMMARY:TRC Rally Session - Sponsored by Revel Hotel
DESCRIPTION:TRC Volunteers! Join us every week to celebrate your victories during this campaign and have some fun with your teammates and other volunteers. Prizes and checks will be handed out (must be present to win!) Free to attend\, but please register so we can accommodate food and drinks.
X-ALT-DESC;FMTTYPE=text/html:<span style="font-family: arial\, sans-serif\; font-size: 13.3333px\;">TRC Volunteers! Join us every week to celebrate your victories&nbsp\;during this campaign and have some fun with your teammates and other volunteers.&nbsp\;Prizes and checks will be handed out (must be present to win!)&nbsp\;</span><strong style="font-family: arial\, sans-serif\; font-size: 13.3333px\;"><em>Free to attend\, but please register so we can accommodate food and drinks.&nbsp\;</em></strong><span style="font-family: arial\, sans-serif\; font-size: 13.3333px\;">&nbsp\;</span>
LOCATION:Revel Hotel 11211 Hickman Road Urbandale
UID:e.1185.10459
SEQUENCE:3
DTSTAMP:20260423T174604Z
URL:https://businesses.uniquelyurbandale.com/events/details/trc-rally-session-sponsored-by-revel-hotel-10459
END:VEVENT

END:VCALENDAR
