BEGIN:VCALENDAR
VERSION:2.0
PRODID:-//ChamberMaster//Event Calendar 2.0//EN
METHOD:PUBLISH
X-PUBLISHED-TTL:P3D
REFRESH-INTERVAL:P3D
CALSCALE:GREGORIAN
BEGIN:VEVENT
DTSTART:20200203T143000Z
DTEND:20200203T153000Z
X-MICROSOFT-CDO-ALLDAYEVENT:FALSE
SUMMARY:TRC Rally Session - Sponsored by Leaf Brothers Cigars
DESCRIPTION:TRC Volunteers! Join us every week to celebrate your victories during this campaign and have some fun with your teammates and other volunteers. Prizes and checks will be handed out (must be present to win!)\n\n\n\nThis session is sponsored and hosted by Leaf Brothers Cigars!
X-ALT-DESC;FMTTYPE=text/html:<span style="font-size: 10pt\; font-family: Arial\, sans-serif\;">TRC Volunteers! Join us every week to celebrate your victories&nbsp\;during this campaign and have some fun with your teammates and other volunteers.&nbsp\;Prizes and checks will be handed out (must be present to win!)<br />\n<br />\nThis session is sponsored and hosted by <a href="https://leafbrotherscigars.com/">Leaf Brothers Cigars</a>!</span>
LOCATION:9500 University Ave\, #1101 West Des Moines\, IA 50266
UID:e.1185.10456
SEQUENCE:3
DTSTAMP:20260423T174511Z
URL:https://businesses.uniquelyurbandale.com/events/details/trc-rally-session-sponsored-by-leaf-brothers-cigars-10456
END:VEVENT

END:VCALENDAR
