BEGIN:VCALENDAR
VERSION:2.0
PRODID:-//ChamberMaster//Event Calendar 2.0//EN
METHOD:PUBLISH
X-PUBLISHED-TTL:P3D
REFRESH-INTERVAL:P3D
CALSCALE:GREGORIAN
BEGIN:VEVENT
DTSTART:20250217T220000Z
DTEND:20250217T230000Z
X-MICROSOFT-CDO-ALLDAYEVENT:FALSE
SUMMARY:TRC Rally
DESCRIPTION:Attention TRC volunteers!  It is time to rally for the 2025 TRC Campaign!  These rallies are not required to attend\, however they are a lot of fun and strongly encouraged.\n\n\n\nThe TRC rally is the perfect time to get your questions answered\, re-connect with your team\, receive your incentives for the week\, pick up some awesome prizes and more!  You don't want to miss these sessions.  Food and Beverages are provided so reservations are required.    \n\n\n\nThis week's catering is brought to you by: \n\nCyd's Catering - Salsa Bar\n\n    Fresh Sea-salted tortilla chips\n\n    Pineapple\, apple\, mango\, and red onion salsa\n\n    Blueberry\, apple\, strawberry\, and red onion salsa\n\n    Fire-roasted tomato salsa with fresh cilantro\n\n    Pico de Gallo.
X-ALT-DESC;FMTTYPE=text/html:<span style="font-family:arial\;"><span style="font-size:14px\;">Attention TRC volunteers!&nbsp\; It is time to rally for the 2025 TRC Campaign!&nbsp\; These rallies are not required to attend\, however they are a lot of fun and strongly encouraged.<br />\n<br />\nThe TRC rally is the perfect time to get your questions answered\, re-connect with your team\, receive your incentives for the week\, pick up some awesome prizes and more!&nbsp\; You don&#39\;t want to miss these sessions.&nbsp\; <strong>Food and Beverages are provided so reservations are required.&nbsp\; &nbsp\;&nbsp\;<br />\n<br />\nThis week&#39\;s catering is brought to you by:&nbsp\;</strong><br />\n<em>Cyd&#39\;s Catering - Salsa Bar</em></span></span><br />\n&nbsp\;&nbsp\;&nbsp\;&nbsp\;<span style="font-family: arial\;"><span style="font-size: 14px\;"><em>Fresh Sea-salted tortilla chips</em></span></span><br />\n&nbsp\;&nbsp\;&nbsp\;&nbsp\;<span style="font-family: arial\;"><span style="font-size: 14px\;"><em>Pineapple\, apple\, mango\, and red onion salsa</em></span></span><br />\n&nbsp\;&nbsp\;&nbsp\;&nbsp\;<span style="font-family: arial\;"><span style="font-size: 14px\;"><em>Blueberry\, apple\, strawberry\, and red onion salsa</em></span></span><br />\n&nbsp\;&nbsp\;&nbsp\;&nbsp\;<span style="font-family: arial\;"><span style="font-size: 14px\;"><em>Fire-roasted tomato salsa with fresh cilantro</em></span></span><br />\n&nbsp\;&nbsp\;&nbsp\;&nbsp\;<span style="font-family:arial\;"><span style="font-size:14px\;"><em>Pico de Gallo.</em></span></span>
LOCATION:Urbandale Chamber of Commerce Aisha R. Syed Board Room REALTOR | Iowa Realty 2830 100th St.\, Suite 110\,Urbandale\, IA 50322
UID:e.1185.15831
SEQUENCE:3
DTSTAMP:20260420T150354Z
URL:https://businesses.uniquelyurbandale.com/events/details/trc-rally-02-17-2025-15831
END:VEVENT

END:VCALENDAR
