BEGIN:VCALENDAR
VERSION:2.0
PRODID:-//ChamberMaster//Event Calendar 2.0//EN
METHOD:PUBLISH
X-PUBLISHED-TTL:P3D
REFRESH-INTERVAL:P3D
CALSCALE:GREGORIAN
BEGIN:VEVENT
DTSTART:20241230T010000Z
DTEND:20241230T023000Z
X-MICROSOFT-CDO-ALLDAYEVENT:FALSE
SUMMARY:The History of Rock & Soul - Pauly & the Goodfellas
DESCRIPTION:Enjoy Pauly & The Goodfellas - The History Of Rock & Soul\, in the Finish Line Show Lounge. Tickets on sale through Midwestix.com\, or in the Prairie Meadows Gift Shop\, while supplies last.\n\nDon't miss your chance to experience a variety of musical hits and the history of Rock & Soul.
X-ALT-DESC;FMTTYPE=text/html:<p>Enjoy Pauly &amp\; The Goodfellas - The History Of Rock &amp\; Soul\, in the Finish Line Show Lounge. Tickets on sale through&nbsp\;<a href="https://tickets.midwestix.com/event/pauly-goodfellas-pm2024/pre-sale" style="box-sizing: border-box\; -webkit-tap-highlight-color: rgba(0\, 0\, 0\, 0)\; color: rgb(210\, 35\, 42)\; text-decoration-line: none\; border: none\; outline: none\; background-color: transparent\; font-weight: 700\;">Midwestix.com</a>\, or in the Prairie Meadows Gift Shop\, while supplies last.</p>\n\n<p>Don&rsquo\;t miss your chance to experience a variety of musical hits and the history of Rock &amp\; Soul.</p>\n
LOCATION:Prairie Meadows Casino & Racetrack 1 Prairie Meadows Dr\, Altoona\, IA 50009 Finish Line Show Lounge
UID:e.1185.15905
SEQUENCE:3
DTSTAMP:20260421T014240Z
URL:https://businesses.uniquelyurbandale.com/events/details/the-history-of-rock-soul-pauly-the-goodfellas-15905
END:VEVENT

END:VCALENDAR
