BEGIN:VCALENDAR
VERSION:2.0
PRODID:-//ChamberMaster//Event Calendar 2.0//EN
METHOD:PUBLISH
X-PUBLISHED-TTL:P3D
REFRESH-INTERVAL:P3D
CALSCALE:GREGORIAN
BEGIN:VEVENT
DTSTART:20270106T000000Z
DTEND:20270106T010000Z
X-MICROSOFT-CDO-ALLDAYEVENT:FALSE
SUMMARY:Tactical Fitness Fun!
DESCRIPTION:FITNESS FUN CLASS! Here at Tactical Fitness\, we want to make fitness fun and accessible to everybody and every BODY! Tuesday nights are for FUN! We get our workout and play games while we do it! From Jenga to Bingo and Trivia to Cards Against Humanity\, anything can be turned into a killer workout! come join us and get after it!
X-ALT-DESC;FMTTYPE=text/html:FITNESS FUN CLASS! Here at Tactical Fitness\, we want to make fitness fun and accessible to everybody and every BODY! Tuesday nights are for FUN! We get our workout and play games while we do it! From Jenga to Bingo and Trivia to Cards Against Humanity\, anything can be turned into a killer workout! come join us and get after it!&nbsp\;
LOCATION:Tactical Fitness - 3963 100th St Urbandale\, IA
UID:e.1185.13959
SEQUENCE:3
DTSTAMP:20260419T155314Z
URL:https://businesses.uniquelyurbandale.com/events/details/tactical-fitness-fun-01-05-2027-13959
END:VEVENT

END:VCALENDAR
