BEGIN:VCALENDAR
VERSION:2.0
PRODID:-//ChamberMaster//Event Calendar 2.0//EN
METHOD:PUBLISH
X-PUBLISHED-TTL:P3D
REFRESH-INTERVAL:P3D
CALSCALE:GREGORIAN
BEGIN:VEVENT
DTSTART:20250409T220000Z
DTEND:20250410T000000Z
X-MICROSOFT-CDO-ALLDAYEVENT:FALSE
SUMMARY:Spring Pop-Up Sale VIP Event
DESCRIPTION:Be the first to shop and snag some incredible deals! Join us for an exclusive VIP shopping experience at the Dress for Success Des Moines Spring Pop-Up Sale! Not only will you get early access to amazing fashion finds before the public\, but your purchase will directly support programs that empower women in our community. Your VIP Perks: ? Early access to the best selection of styles & deals ? Complimentary sips & snacks while you shop Event Details: Date: Wednesday\, April 9 Time: 5:00 7:00 PM Location: Valley West Mall\, Suite 203 Purchase your tickets here and treat yourself to an exclusive shopping spree! Advance Tickets: $30 Tickets at the door: $40
X-ALT-DESC;FMTTYPE=text/html:Be the first to shop and snag some incredible deals! Join us for an exclusive VIP shopping experience at the Dress for Success Des Moines Spring Pop-Up Sale! Not only will you get early access to amazing fashion finds before the public\, but your purchase will directly support programs that empower women in our community. Your VIP Perks: ? Early access to the best selection of styles &amp\; deals ? Complimentary sips &amp\; snacks while you shop Event Details: Date: Wednesday\, April 9 Time: 5:00&ndash\;7:00 PM Location: Valley West Mall\, Suite 203 Purchase your tickets here and treat yourself to an exclusive shopping spree! Advance Tickets: $30 Tickets at the door: $40
LOCATION:Valley West Mall
UID:e.1185.17063
SEQUENCE:3
DTSTAMP:20260421T094445Z
URL:https://businesses.uniquelyurbandale.com/events/details/spring-pop-up-sale-vip-event-17063
END:VEVENT

END:VCALENDAR
