BEGIN:VCALENDAR
VERSION:2.0
PRODID:-//ChamberMaster//Event Calendar 2.0//EN
METHOD:PUBLISH
X-PUBLISHED-TTL:P3D
REFRESH-INTERVAL:P3D
CALSCALE:GREGORIAN
BEGIN:VEVENT
DTSTART:20260514T120000Z
DTEND:20260514T130000Z
X-MICROSOFT-CDO-ALLDAYEVENT:FALSE
SUMMARY:Spartan HIIT Class
DESCRIPTION:Come get SPARTAN TOUGH with the ONLY certified Spartan Coach in the entire state! Learn what it takes to crush your first Spartan Race! This isn't your average HIIT class\, this is all about GRIT with exercises based around Spartan race training
X-ALT-DESC;FMTTYPE=text/html:Come get SPARTAN TOUGH with the ONLY certified Spartan Coach in the entire state! Learn what it takes to crush your first Spartan Race! This isn&#39\;t your average HIIT class\, this is all about GRIT with exercises based around Spartan race training
LOCATION:Tactical Fitness
UID:e.1185.14656
SEQUENCE:3
DTSTAMP:20260419T184533Z
URL:https://businesses.uniquelyurbandale.com/events/details/spartan-hiit-class-05-14-2026-14656
END:VEVENT

END:VCALENDAR
