BEGIN:VCALENDAR
VERSION:2.0
PRODID:-//ChamberMaster//Event Calendar 2.0//EN
METHOD:PUBLISH
X-PUBLISHED-TTL:P3D
REFRESH-INTERVAL:P3D
CALSCALE:GREGORIAN
BEGIN:VEVENT
DTSTART:20241212T163000Z
DTEND:20241212T220000Z
X-MICROSOFT-CDO-ALLDAYEVENT:FALSE
SUMMARY:Roadmap to Clarity: Annual Planning Day 2025
DESCRIPTION:Roadmap to Clarity: Annual Planning Day 2025 is a focused\, hands-on session designed to help business owners set clear\, strategic goals for the upcoming year. Participants review past achievements\, identify priorities\, and develop actionable plans that align with long-term business growth. The day emphasizes SMART goal-setting\, prioritization\, and task delegation to ensure every goal is manageable and impactful. Through collaborative brainstorming\, data-driven insights\, and structured planning\, attendees leave equipped with a personalized roadmap to guide their business forward confidently and proactively.
X-ALT-DESC;FMTTYPE=text/html:Roadmap to Clarity: Annual Planning Day 2025 is a focused\, hands-on session designed to help business owners set clear\, strategic goals for the upcoming year. Participants review past achievements\, identify priorities\, and develop actionable plans that align with long-term business growth. The day emphasizes SMART goal-setting\, prioritization\, and task delegation to ensure every goal is manageable and impactful. Through collaborative brainstorming\, data-driven insights\, and structured planning\, attendees leave equipped with a personalized roadmap to guide their business forward confidently and proactively.
LOCATION:Urbandale Chamber of Commerce Aisha R Syed\, Relator Iowa Realty Board Room
UID:e.1185.15909
SEQUENCE:3
DTSTAMP:20260421T013133Z
URL:https://businesses.uniquelyurbandale.com/events/details/roadmap-to-clarity-annual-planning-day-2025-15909
END:VEVENT

END:VCALENDAR
