BEGIN:VCALENDAR
VERSION:2.0
PRODID:-//ChamberMaster//Event Calendar 2.0//EN
METHOD:PUBLISH
X-PUBLISHED-TTL:P3D
REFRESH-INTERVAL:P3D
CALSCALE:GREGORIAN
BEGIN:VEVENT
DTSTART:20210416T173000Z
DTEND:20210416T180000Z
X-MICROSOFT-CDO-ALLDAYEVENT:FALSE
SUMMARY:Ribbon Cutting - Primrose School of Urbandale
DESCRIPTION:Come celebrate the grand opening of Primrose School of Urbandale! Primrose Schools is a national system of accredited private preschools that provides a premier early education and child care experience for children and families. Their Franchise Owners\, Leadership Teams\, and School Staff partner with parents to help build the right foundation for future learning and in life.\n\n\n\nFace coverings are required for the duration of the event.
X-ALT-DESC;FMTTYPE=text/html:<p><span style="font-size:14px\;"><span style="font-family:arial\;"><strong>Come celebrate the grand opening of Primrose School of Urbandale!&nbsp\;</strong>Primrose Schools is a national system of accredited private preschools that provides a premier early education and child care experience for children and families. Their Franchise Owners\, Leadership Teams\, and School Staff partner with parents to help build the right foundation for future learning and in life.<br />\n<br />\n<strong>Face coverings are required for the duration of the event.</strong></span></span></p>\n
LOCATION:Primrose School of Urbandale 12001 Hickman Road Urbandale\, IA 50323
UID:e.1185.11258
SEQUENCE:3
DTSTAMP:20260424T124523Z
URL:https://businesses.uniquelyurbandale.com/events/details/ribbon-cutting-primrose-school-of-urbandale-11258
END:VEVENT

END:VCALENDAR
