BEGIN:VCALENDAR
VERSION:2.0
PRODID:-//ChamberMaster//Event Calendar 2.0//EN
METHOD:PUBLISH
X-PUBLISHED-TTL:P3D
REFRESH-INTERVAL:P3D
CALSCALE:GREGORIAN
BEGIN:VEVENT
DTSTART:20210615T170000Z
DTEND:20210615T180000Z
X-MICROSOFT-CDO-ALLDAYEVENT:FALSE
SUMMARY:Ribbon Cutting - Foam Carwash
DESCRIPTION:Come celebrate the opening of Foam Carwash! Foam Carwash Express is family-owned and locally operated providing a customized express car wash experience. Their exclusive wash process is eco-friendly\, environmentally safe and recycles 70% of water used.
X-ALT-DESC;FMTTYPE=text/html:<p><span style="font-size:14px\;"><strong>Come celebrate the opening of Foam Carwash!&nbsp\;</strong><span id="docs-internal-guid-1e3d71de-7fff-ad27-67c4-67f836931deb"><span style="color: rgb(33\, 33\, 33)\; font-variant-numeric: normal\; font-variant-east-asian: normal\; vertical-align: baseline\; white-space: pre-wrap\;">Foam Carwash Express is</span><span style="color: rgb(68\, 68\, 68)\; font-variant-numeric: normal\; font-variant-east-asian: normal\; vertical-align: baseline\; white-space: pre-wrap\;"> family-owned and locally operated providing a customized express car wash experience. Their exclusive wash process is eco-friendly\, environmentally safe and recycles 70% of water used.</span></span></span></p>\n
LOCATION:Foam Carwash 10950 Meredith Drive Urbandale\, Iowa 50322
UID:e.1185.11270
SEQUENCE:3
DTSTAMP:20260424T154302Z
URL:https://businesses.uniquelyurbandale.com/events/details/ribbon-cutting-foam-carwash-11270
END:VEVENT

END:VCALENDAR
