BEGIN:VCALENDAR
VERSION:2.0
PRODID:-//ChamberMaster//Event Calendar 2.0//EN
METHOD:PUBLISH
X-PUBLISHED-TTL:P3D
REFRESH-INTERVAL:P3D
CALSCALE:GREGORIAN
BEGIN:VEVENT
DTSTART:20250515T200000Z
DTEND:20250515T230000Z
X-MICROSOFT-CDO-ALLDAYEVENT:FALSE
SUMMARY:Ribbon Cutting Event for Woof Pack Resort & Spa
DESCRIPTION:Join the Urbandale and Johnston Chambers in celebrating Woof Pack Resort & Spa Grand Opening Ribbon Cutting.\n\n\n\nEvent is open to the public to come see the resort\, take guided tours and meet my staff!
X-ALT-DESC;FMTTYPE=text/html:<strong style="color: rgb(75\, 0\, 130)\;"><span style="font-size: 20px\;">Join the Urbandale and Johnston Chambers in celebrating Woof Pack Resort &amp\; Spa Grand Opening Ribbon Cutting.</span></strong><br />\n<br />\nEvent is open to the public to come see the resort\, take guided tours and meet my staff!
LOCATION:Woof Pack Resort & Spa 5700 West Parkway Johnston\, IA 50131
UID:e.1185.17115
SEQUENCE:3
DTSTAMP:20260420T105742Z
URL:https://businesses.uniquelyurbandale.com/events/details/ribbon-cutting-event-for-woof-pack-resort-spa-17115
END:VEVENT

END:VCALENDAR
