BEGIN:VCALENDAR
VERSION:2.0
PRODID:-//ChamberMaster//Event Calendar 2.0//EN
METHOD:PUBLISH
X-PUBLISHED-TTL:P3D
REFRESH-INTERVAL:P3D
CALSCALE:GREGORIAN
BEGIN:VEVENT
DTSTART:20250414T160000Z
DTEND:20250414T180000Z
X-MICROSOFT-CDO-ALLDAYEVENT:FALSE
SUMMARY:Ribbon Cutting Event for Universal Frequency
DESCRIPTION:Join the Urbandale Chamber in celebrating Universal Frequency's Grand Opening Ribbon Cutting.\n\n\n\nJoin us for a momentous occasion as we officially cut the ribbon for Universal Frequency - a launch that signals the beginning of a visionary journey at the intersection of technology\, innovation\, and purposeful legacy.\n\n\n\nThis event will feature a presentation of some of our newest inventions and groundbreaking technologies\, giving attendees an exclusive first look at the forward-thinking solutions we're bringing into the world. In addition\, we will be showcasing two collaborative demonstrations specifically tailored for companies with the Chamber\, offering a tangible example of the scale\, depth\, and versatility of our development capabilities. \n\n\n\nThis day is not only a celebration of a new company\, but also a tribute to the extraordinary leadership of Maryann Tolson\, whose brilliance\, dedication\, and vision are guiding the creation of Universal Frequency\, as she moves gracefully toward a well-earned retirement. This company is more than a business - it is her legacy\, and a platform that will inspire future generations to innovate with intention. \n\n\n\nWe look forward to celebrating with community leaders\, chamber partners\, collaborators\, and friends. Let this be the beginning of something truly revolutionary.
X-ALT-DESC;FMTTYPE=text/html:<strong style="color: rgb(75\, 0\, 130)\;"><span style="font-size: 20px\;">Join the Urbandale Chamber in celebrating Universal Frequency&#39\;s Grand Opening Ribbon Cutting.</span></strong><br />\n<br />\nJoin us for a momentous occasion as we officially cut the ribbon for Universal Frequency - a launch that signals the beginning of a visionary journey at the intersection of technology\, innovation\, and purposeful legacy.<br />\n<br />\nThis event will feature a presentation of some of our newest inventions and groundbreaking technologies\, giving attendees an exclusive first look at the forward-thinking solutions we&#39\;re bringing into the world. In addition\, we will be showcasing two collaborative demonstrations specifically tailored for companies with the Chamber\, offering a tangible example of the scale\, depth\, and versatility of our development capabilities.&nbsp\;<br />\n<br />\nThis day is not only a celebration of a new company\, but also a tribute to the extraordinary leadership of Maryann Tolson\, whose brilliance\, dedication\, and vision are guiding the creation of Universal Frequency\, as she moves gracefully toward a well-earned retirement. This company is more than a business - it is her legacy\, and a platform that will inspire future generations to innovate with intention.&nbsp\;<br />\n<br />\nWe look forward to celebrating with community leaders\, chamber partners\, collaborators\, and friends. Let this be the beginning of something truly revolutionary.&nbsp\;
LOCATION:Urbandale Chamber of Commerce 2830 100th St.\, Ste. 110 Urbandale\, IA 50322
UID:e.1185.17119
SEQUENCE:3
DTSTAMP:20260420T121551Z
URL:https://businesses.uniquelyurbandale.com/events/details/ribbon-cutting-event-for-universal-frequency-17119
END:VEVENT

END:VCALENDAR
