BEGIN:VCALENDAR
VERSION:2.0
PRODID:-//ChamberMaster//Event Calendar 2.0//EN
METHOD:PUBLISH
X-PUBLISHED-TTL:P3D
REFRESH-INTERVAL:P3D
CALSCALE:GREGORIAN
BEGIN:VEVENT
DTSTART:20250321T210000Z
DTEND:20250321T220000Z
X-MICROSOFT-CDO-ALLDAYEVENT:FALSE
SUMMARY:Ribbon Cutting Event for Miss Vie Beauty Braiding Salon and Beauty Supply
DESCRIPTION:Join the Urbandale Chamber in celebrating Miss Vie Beauty - Braiding Salon and Beauty Supply Grand Opening Ribbon Cutting.\n\n\n\nThis is such a dream come true! A place where one can get any hairstyle done with all necessary supplies in one spot. We are able to cut down braiding time by at least two hours due to our seasoned braiders. We have the ability for same day appointments: hardly do we say "No!" at Miss Vie's.
X-ALT-DESC;FMTTYPE=text/html:<strong style="color: rgb(75\, 0\, 130)\;"><span style="font-size: 20px\;">Join the Urbandale Chamber in celebrating Miss Vie Beauty - Braiding Salon and Beauty Supply Grand Opening Ribbon Cutting.</span></strong><br />\n<br />\nThis is such a dream come true! A place where one can get any hairstyle done with all necessary supplies in one spot. We are able to cut down braiding time by at least two hours due to our seasoned braiders. We have the ability for same day appointments: hardly do we say &quot\;No!&quot\; at Miss Vie&#39\;s.&nbsp\;
LOCATION:Miss Vie Beauty - Braiding Salon and Beauty Supply 8102 Douglas Ave. Urbandale\, IA 50322
UID:e.1185.16990
SEQUENCE:3
DTSTAMP:20260420T133526Z
URL:https://businesses.uniquelyurbandale.com/events/details/ribbon-cutting-event-for-miss-vie-beauty-braiding-salon-and-beauty-supply-16990
END:VEVENT

END:VCALENDAR
