BEGIN:VCALENDAR
VERSION:2.0
PRODID:-//ChamberMaster//Event Calendar 2.0//EN
METHOD:PUBLISH
X-PUBLISHED-TTL:P3D
REFRESH-INTERVAL:P3D
CALSCALE:GREGORIAN
BEGIN:VEVENT
DTSTART:20250501T131500Z
DTEND:20250501T134500Z
X-MICROSOFT-CDO-ALLDAYEVENT:FALSE
SUMMARY:Ribbon Cutting Event for Living History Farms
DESCRIPTION:Join the Urbandale Chamber in celebrating Living History Farms' Kemin Cultivation Center Grand Opening Ribbon Cutting.\n\n\n\nJoin Living History Farms in celebrating the Grand Opening of their new Kemin Cultivation Center with a Ribbon Cutting! \n\n\n\nThe outdoor museum will open at 9:00am to kick off the 2025 General Season following the ribbon cutting ceremony. Those that wish to tour the museum are required to have to have a General Admission ticket. General Admission Tickets can be purchased using the link below. \n\n\n\nLiving History Farms - General Admission Tickets
X-ALT-DESC;FMTTYPE=text/html:<strong style="color: rgb(75\, 0\, 130)\;"><span style="font-size: 20px\;">Join the Urbandale Chamber in celebrating Living History Farms&#39\; Kemin Cultivation Center Grand Opening Ribbon Cutting.</span></strong><br />\n<br />\nJoin Living History Farms in celebrating the Grand Opening of their new Kemin Cultivation Center with a Ribbon Cutting!&nbsp\;<br />\n<br />\nThe outdoor museum will open at 9:00am to kick off the 2025 General Season following the ribbon cutting ceremony. Those that wish to tour the museum are required to have to have a General Admission ticket. General Admission Tickets can be purchased using the link below.&nbsp\;<br />\n<br />\n<a href="https://lhfmarketplace.lhf.org/calendar.aspx?et=p&amp\;month=2025-05">Living History Farms - General Admission Tickets</a>&nbsp\;
LOCATION:Living History Farms 11121 Hickman Rd. Urbandale\, IA 50322
UID:e.1185.17108
SEQUENCE:3
DTSTAMP:20260420T105750Z
URL:https://businesses.uniquelyurbandale.com/events/details/ribbon-cutting-event-for-living-history-farms-17108
END:VEVENT

END:VCALENDAR
