BEGIN:VCALENDAR
VERSION:2.0
PRODID:-//ChamberMaster//Event Calendar 2.0//EN
METHOD:PUBLISH
X-PUBLISHED-TTL:P3D
REFRESH-INTERVAL:P3D
CALSCALE:GREGORIAN
BEGIN:VEVENT
DTSTART:20250317T210000Z
DTEND:20250317T220000Z
X-MICROSOFT-CDO-ALLDAYEVENT:FALSE
SUMMARY:Ribbon Cutting Event for Advantage Physical Therapy and Rehab
DESCRIPTION:Join the Urbandale Chamber in celebrating Advantage Physical Therapy and Rehab's Grand Opening Ribbon Cutting.\n\n\n\nAdvantage Physical Therapy and Rehab is thrilled to join the Urbandale Community! We warmly invite the chamber and all community members to visit our clinic. Come celebrate with us and discover how we can help you achieve your health and wellness goals.
X-ALT-DESC;FMTTYPE=text/html:<strong style="color: rgb(75\, 0\, 130)\;"><span style="font-size: 20px\;">Join the Urbandale Chamber in celebrating Advantage Physical Therapy and Rehab&#39\;s Grand Opening Ribbon Cutting.</span></strong><br />\n<br />\nAdvantage Physical Therapy and Rehab is thrilled to join the Urbandale Community! We warmly invite the chamber and all community members to visit our clinic. Come celebrate with us and discover how we can help you achieve your health and wellness goals.&nbsp\;
LOCATION:Advantage Physical Therapy and Rehab 2844 104th St. Urbandale\, IA 50322
UID:e.1185.16992
SEQUENCE:3
DTSTAMP:20260420T133351Z
URL:https://businesses.uniquelyurbandale.com/events/details/ribbon-cutting-event-for-advantage-physical-therapy-and-rehab-16992
END:VEVENT

END:VCALENDAR
