BEGIN:VCALENDAR
VERSION:2.0
PRODID:-//ChamberMaster//Event Calendar 2.0//EN
METHOD:PUBLISH
X-PUBLISHED-TTL:P3D
REFRESH-INTERVAL:P3D
CALSCALE:GREGORIAN
BEGIN:VEVENT
DTSTART:20250411T160000Z
DTEND:20250411T170000Z
X-MICROSOFT-CDO-ALLDAYEVENT:FALSE
SUMMARY:Ribbon Cutting Event for A&G Home
DESCRIPTION:Join the Urbandale Chamber in celebrating A&G Home's Grand Opening Ribbon Cutting.
X-ALT-DESC;FMTTYPE=text/html:<strong style="color: rgb(75\, 0\, 130)\;"><span style="font-size: 20px\;">Join the Urbandale Chamber in celebrating A&amp\;G Home&#39\;s Grand Opening Ribbon Cutting.</span></strong><br />\n&nbsp\;
LOCATION:A&G Home 3751 86th St. Urbandale\, IA 50322
UID:e.1185.17079
SEQUENCE:3
DTSTAMP:20260420T121658Z
URL:https://businesses.uniquelyurbandale.com/events/details/ribbon-cutting-event-for-a-g-home-17079
END:VEVENT

END:VCALENDAR
