BEGIN:VCALENDAR
VERSION:2.0
PRODID:-//ChamberMaster//Event Calendar 2.0//EN
METHOD:PUBLISH
X-PUBLISHED-TTL:P3D
REFRESH-INTERVAL:P3D
CALSCALE:GREGORIAN
BEGIN:VEVENT
DTSTART:20250428T210000Z
DTEND:20250428T220000Z
X-MICROSOFT-CDO-ALLDAYEVENT:FALSE
SUMMARY:RESCHEDULED:Ribbon Cutting Event for Lumen Eyecare - NEW DATE - May 7th
DESCRIPTION:DUE TO POTIENTAL FOR SEVERE WEATHER: THIS EVENT WILL  BE RESCHEDULED FOR May 7th.\n\n\n\nRegister for the May 7th ribbon cutting HERE!\n\n\n\nJoin the Urbandale Chamber in celebrating Lumen Eyecare's Grand Opening Ribbon Cutting.
X-ALT-DESC;FMTTYPE=text/html:<strong style="color: rgb(75\, 0\, 130)\;"><span style="font-size: 20px\;"><span style="color:#FF0000\;">DUE TO POTIENTAL FOR SEVERE WEATHER: THIS EVENT WILL&nbsp\; BE RESCHEDULED FOR May 7th.<br />\n<br />\nRegister for the May 7th ribbon cutting <a href="https://businesses.uniquelyurbandale.com/events/details/ribbon-cutting-event-for-lumen-eyecare-17241?calendarMonth=2025-05-01">HERE!</a></span><br />\n<br />\nJoin the Urbandale Chamber in celebrating Lumen Eyecare&#39\;s Grand Opening Ribbon Cutting.</span></strong><br />\n&nbsp\;
LOCATION:Lumen Eyecare 14111 Douglas Pkwy. Urbandale\, IA 50323
UID:e.1185.17118
SEQUENCE:3
DTSTAMP:20260420T121938Z
URL:https://businesses.uniquelyurbandale.com/events/details/rescheduled-ribbon-cutting-event-for-lumen-eyecare-new-date-may-7th-17118
END:VEVENT

END:VCALENDAR
