BEGIN:VCALENDAR
VERSION:2.0
PRODID:-//ChamberMaster//Event Calendar 2.0//EN
METHOD:PUBLISH
X-PUBLISHED-TTL:P3D
REFRESH-INTERVAL:P3D
CALSCALE:GREGORIAN
BEGIN:VEVENT
DTSTART:20200618T210000Z
DTEND:20200618T220000Z
X-MICROSOFT-CDO-ALLDAYEVENT:FALSE
SUMMARY:Postponed - Urbandale Chamber and genYP New Member Social
DESCRIPTION:The Urbandale Chamber and genYP New Member Social will be postponed to the fall. \n\n\n\nYou and a guest are invited to a fun social for members (both Chamber and genYP) that joined between December 2019 and June 2020.\n\n\n\nLight appetizers will be included and a cash bar available. Short program will take place at 4:30 pm. No charge to attend but registrations are requested.
X-ALT-DESC;FMTTYPE=text/html:<p><span style="font-size:14px\;"><span style="font-family:arial\;">The Urbandale Chamber and genYP New Member Social will be postponed to the fall.&nbsp\;<br />\n<br />\nYou and a guest are invited to a&nbsp\;fun social&nbsp\;for members&nbsp\;(both Chamber and genYP)&nbsp\;that joined between December 2019 and June 2020.<br />\n<br />\nLight appetizers will be included&nbsp\;and a cash bar available.&nbsp\;Short program will take place at 4:30 pm.&nbsp\;No charge to attend but&nbsp\;registrations are requested.</span></span><br />\n&nbsp\;</p>\n
LOCATION:TBD
UID:e.1185.10841
SEQUENCE:3
DTSTAMP:20260423T232325Z
URL:https://businesses.uniquelyurbandale.com/events/details/postponed-urbandale-chamber-and-genyp-new-member-social-10841
END:VEVENT

END:VCALENDAR
