BEGIN:VCALENDAR
VERSION:2.0
PRODID:-//ChamberMaster//Event Calendar 2.0//EN
METHOD:PUBLISH
X-PUBLISHED-TTL:P3D
REFRESH-INTERVAL:P3D
CALSCALE:GREGORIAN
BEGIN:VEVENT
DTSTART:20241231T150000Z
DTEND:20241231T190000Z
X-MICROSOFT-CDO-ALLDAYEVENT:FALSE
SUMMARY:New Years at Noon
DESCRIPTION:Celebrate the new year a few hours early with crafts\, dancing\, and not one\, but two beach ball drops!\n\nBeach ball drops will happen at 10 a.m. and noon.\n\n$10 for ages 1-9\, $4 for ages 10+\, free for infants and members
X-ALT-DESC;FMTTYPE=text/html:<div>Celebrate the new year a few hours early with crafts\, dancing\, and not one\, but two beach ball drops!</div>\n\n<div>Beach ball drops will happen at 10 a.m. and noon.</div>\n\n<div>$10 for ages 1-9\, $4 for ages 10+\, free for infants and members</div>\n
LOCATION:Des Moines Children's Museum
UID:e.1185.15968
SEQUENCE:3
DTSTAMP:20260421T030630Z
URL:https://businesses.uniquelyurbandale.com/events/details/new-years-at-noon-15968
END:VEVENT

END:VCALENDAR
