BEGIN:VCALENDAR
VERSION:2.0
PRODID:-//ChamberMaster//Event Calendar 2.0//EN
METHOD:PUBLISH
X-PUBLISHED-TTL:P3D
REFRESH-INTERVAL:P3D
CALSCALE:GREGORIAN
BEGIN:VEVENT
DTSTART:20210406T140000Z
DTEND:20210406T150000Z
X-MICROSOFT-CDO-ALLDAYEVENT:FALSE
SUMMARY:Meet the Urbandale Chamber
DESCRIPTION:Introducing the new Marketing with the Urbandale Chamber Workshop! During this interactive workshop held during the Meet the Chamber event we will cover ways to market with the Urbandale Chamber. We will cover opportunities to market with\n\n	Member to Member Discounts\n	Hot Deals\n	Event sponsorship\n	News releases\n	Newsletters articles\n	Special New Member Opportunities\n\nBring your laptop\, notebook\, and questions to this interactive workshop focused on getting you results with your Urbandale Chamber listing! If you are participating remotely\, be prepared to complete the workshop activities on your device or another device. \n\n\n\nMeet the Chamber provides an opportunity for new members\, representatives\, future members\, and longtime members to come together to learn about how an Urbandale Chamber membership can serve you and your business. Meet other members/staff and learn more about accessing your benefits in a small group\, informal gathering. Each month\, the Meet the Chamber events will center on a different topic to help you maximize your Chamber membership.
X-ALT-DESC;FMTTYPE=text/html:<span style="color: rgb(68\, 68\, 68)\; font-family: arial\, sans-serif\; font-size: 14px\;">Introducing the new Marketing with the Urbandale Chamber Workshop! During this interactive workshop held during the Meet the Chamber event we will cover ways to market with the Urbandale Chamber. We will cover opportunities to market with</span>\n<ul>\n	<li><span style="color: rgb(68\, 68\, 68)\; font-family: arial\, sans-serif\; font-size: 14px\;">Member to Member Discounts</span></li>\n	<li><span style="color: rgb(68\, 68\, 68)\; font-family: arial\, sans-serif\; font-size: 14px\;">Hot Deals</span></li>\n	<li><span style="color: rgb(68\, 68\, 68)\; font-family: arial\, sans-serif\; font-size: 14px\;">Event sponsorship</span></li>\n	<li><span style="color: rgb(68\, 68\, 68)\; font-family: arial\, sans-serif\; font-size: 14px\;">News releases</span></li>\n	<li><span style="color: rgb(68\, 68\, 68)\; font-family: arial\, sans-serif\; font-size: 14px\;">Newsletters articles</span></li>\n	<li><span style="color: rgb(68\, 68\, 68)\; font-family: arial\, sans-serif\; font-size: 14px\;">Special New Member Opportunities</span></li>\n</ul>\n<span style="color: rgb(68\, 68\, 68)\; font-family: arial\, sans-serif\; font-size: 14px\;">Bring your laptop\, notebook\, and questions to this interactive workshop focused on getting you results with your Urbandale Chamber listing!&nbsp\;If you are participating remotely\, be prepared to complete the workshop activities on your device or another device.&nbsp\;</span><br />\n<br />\n<span style="color: rgb(68\, 68\, 68)\; font-family: arial\, sans-serif\; font-size: 14px\;">Meet the Chamber provides an opportunity for new members\, representatives\, future members\, and longtime members to come together to learn about how an Urbandale Chamber membership can serve you and your business.&nbsp\;</span><span style="color: rgb(68\, 68\, 68)\; font-family: arial\, sans-serif\; font-size: 14px\;">Meet other members/staff and learn more about accessing your benefits in a small group\, informal gathering. Each month\, the Meet the Chamber events will center on a different topic to help you maximize your Chamber membership.&nbsp\;</span>
LOCATION:Urbandale Chamber of Commerce | RODAN Board Room | 2830 100th St.\, Suite 110\, Urbandale\, IA 50322 Attendees can attend the event in-person at the event location. In-person registration will be limited to ensure social distancing. Participants can attend virtually via Zoom event as well.
UID:e.1185.11009
SEQUENCE:3
DTSTAMP:20260424T124519Z
URL:https://businesses.uniquelyurbandale.com/events/details/meet-the-urbandale-chamber-04-06-2021-11009
END:VEVENT

END:VCALENDAR
