BEGIN:VCALENDAR
VERSION:2.0
PRODID:-//ChamberMaster//Event Calendar 2.0//EN
METHOD:PUBLISH
X-PUBLISHED-TTL:P3D
REFRESH-INTERVAL:P3D
CALSCALE:GREGORIAN
BEGIN:VEVENT
DTSTART:20250502T113000Z
DTEND:20250502T200000Z
X-MICROSOFT-CDO-ALLDAYEVENT:FALSE
SUMMARY:LifeServe Blood Center Firefighter Appreciation Blood Drive
DESCRIPTION:LifeServe Blood Center is partnering with local fire departments across the Midwest to support the local blood supply and honor the brave individuals in our community who risk the ultimate sacrifice to save our neighbors! Firefighters are committed to the protection of life and property and put their lives on the line for it. That commitment is something that everyone can appreciate and support. Join LifeServe Blood Center this May as we celebrate and honor International Firefighters Day (Sunday\, May 4). There are multiple Blood Drives during the week around May 4th\, and our Donor Centers will be ready too! International Firefighters' Day (IFFD) is a special day where communities everywhere can recognize and honor their sacrifices. Firefighters protect our communities and environments\, and we want to show our profound appreciation. In Urbandale\, on May 1-3\, stop\, drop\, and roll into our Donor Center (10469 Hickman Road) to show your support\, and you'll get an exclusive fire axe pizza cutter (while supplies last)!
X-ALT-DESC;FMTTYPE=text/html:LifeServe Blood Center is partnering with local fire departments across the Midwest to support the local blood supply and honor the brave individuals in our community who risk the ultimate sacrifice to save our neighbors! Firefighters are committed to the protection of life and property and put their lives on the line for it. That commitment is something that everyone can appreciate and support. Join LifeServe Blood Center this May as we celebrate and honor International Firefighters Day (Sunday\, May 4). There are multiple Blood Drives during the week around May 4th\, and our Donor Centers will be ready too! International Firefighters&rsquo\; Day (IFFD) is a special day where communities everywhere can recognize and honor their sacrifices. Firefighters protect our communities and environments\, and we want to show our profound appreciation. In Urbandale\, on May 1-3\, stop\, drop\, and roll into our Donor Center (10469 Hickman Road) to show your support\, and you&#39\;ll get an exclusive fire axe pizza cutter (while supplies last)!
LOCATION:LifeServe Blood Center Donor Center 10469 Hickman Road Urbandale\, IA 50322
UID:e.1185.17137
SEQUENCE:3
DTSTAMP:20260421T113037Z
URL:https://businesses.uniquelyurbandale.com/events/details/lifeserve-blood-center-firefighter-appreciation-blood-drive-05-02-2025-17137
END:VEVENT

END:VCALENDAR
