BEGIN:VCALENDAR
VERSION:2.0
PRODID:-//ChamberMaster//Event Calendar 2.0//EN
METHOD:PUBLISH
X-PUBLISHED-TTL:P3D
REFRESH-INTERVAL:P3D
CALSCALE:GREGORIAN
BEGIN:VEVENT
DTSTART:20250612T210000Z
DTEND:20250612T230000Z
X-MICROSOFT-CDO-ALLDAYEVENT:FALSE
SUMMARY:Leadership Urbandale Graduation
DESCRIPTION:Join us as we celebrate the Leadership Urbandale Class of 2025! The evening will feature engaging class project presentations\, a graduation ceremony honoring this year's participants\, and a reception to follow. Enjoy light hors d'oeuvres\, a cash bar\, and the opportunity to connect with fellow community leaders\, alumni\, and supporters. Help us recognize the dedication and achievements of these emerging leaders as they complete their journey through the program.
X-ALT-DESC;FMTTYPE=text/html:Join us as we celebrate the Leadership Urbandale Class of 2025! The evening will feature engaging class project presentations\, a graduation ceremony honoring this year&rsquo\;s participants\, and a reception to follow. Enjoy light hors d&#39\;oeuvres\, a cash bar\, and the opportunity to connect with fellow community leaders\, alumni\, and supporters. Help us recognize the dedication and achievements of these emerging leaders as they complete their journey through the program.
LOCATION:R&R Crescent Building 12421 Meredith Dr. Urbandale\, IA 50323
UID:e.1185.15162
SEQUENCE:3
DTSTAMP:20260420T092029Z
URL:https://businesses.uniquelyurbandale.com/events/details/leadership-urbandale-graduation-15162
END:VEVENT

END:VCALENDAR
