BEGIN:VCALENDAR
VERSION:2.0
PRODID:-//ChamberMaster//Event Calendar 2.0//EN
METHOD:PUBLISH
X-PUBLISHED-TTL:P3D
REFRESH-INTERVAL:P3D
CALSCALE:GREGORIAN
BEGIN:VEVENT
DTSTART:20240213T170000Z
DTEND:20240213T190000Z
X-MICROSOFT-CDO-ALLDAYEVENT:FALSE
SUMMARY:Kowboy Kix Band
DESCRIPTION:FREE LIVE ENTERTAINMENT\n\nGenre: Country
X-ALT-DESC;FMTTYPE=text/html:<p>FREE LIVE ENTERTAINMENT</p>\n\n<p>Genre: Country</p>\n
LOCATION:Prairie Meadows Racetrack and Casino Finish Line Show Lounge (casino level 2)
UID:e.1185.13644
SEQUENCE:3
DTSTAMP:20260421T181450Z
URL:https://businesses.uniquelyurbandale.com/events/details/kowboy-kix-band-13644
END:VEVENT

END:VCALENDAR
