BEGIN:VCALENDAR
VERSION:2.0
PRODID:-//ChamberMaster//Event Calendar 2.0//EN
METHOD:PUBLISH
X-PUBLISHED-TTL:P3D
REFRESH-INTERVAL:P3D
CALSCALE:GREGORIAN
BEGIN:VEVENT
DTSTART:20250520T223000Z
DTEND:20250520T233000Z
X-MICROSOFT-CDO-ALLDAYEVENT:FALSE
SUMMARY:Informational Session | Urbandale Chamber's trip to the Amalfi Coast & Pompeii
DESCRIPTION:The Urbandale Chamber of Commerce is traveling to Pompeii & the Amalfi coast in 2025\, departing October 22 and you are invited to join us!  You do not need to be a member of the Urbandale Chamber to join us!\n\n\n\nThis trip is flexible to allow travelers to book their own airfare (land only) or the trip can include flight with departure out of Des Moines\, Iowa.  \n\n\n\nThis trip includes five-nights in Sorrento and one-night accommodation in Rome\, daily breakfast at the hotel\, transportation\, English-speaking guide\, welcome cocktail\, full-day guided excursion to Positano\, Ravello\, Amalfi and Pompeii\, Limoncello sampling and production demonstration\, pizza and pasta demonstration.  \n\n\n\nThere are also optional tours available to Capri\, Naples and a three-night optional extension in Rome. \n\n\n\nCome learn more during an informational session on May 20\, 2025 from 5:30 - 6:30 p.m. in person and virtually from the comfort of your home.  \n\n\n\nView full details and itinerary here!\n\n\n\nReady to book? Complete this form!
X-ALT-DESC;FMTTYPE=text/html:The Urbandale Chamber of Commerce is traveling to Pompeii &amp\; the Amalfi coast in 2025\, departing October 22 and you are invited to join us!&nbsp\; You do not need to be a member of the Urbandale Chamber to join us!<br />\n<br />\nThis trip is flexible to allow travelers to book their own airfare (land only) or the trip can include flight with departure out of Des Moines\, Iowa.&nbsp\;&nbsp\;<br />\n<br />\nThis trip includes five-nights in Sorrento and one-night accommodation in Rome\, daily breakfast at the hotel\, transportation\, English-speaking guide\, welcome cocktail\, full-day guided excursion to Positano\, Ravello\, Amalfi and Pompeii\, Limoncello sampling and production demonstration\, pizza and pasta demonstration.&nbsp\;&nbsp\;<br />\n<br />\nThere are also optional tours available to Capri\, Naples and a three-night optional extension in Rome.&nbsp\;<br />\n<br />\nCome learn more during an informational session on May 20\, 2025 from 5:30 - 6:30 p.m. in person and virtually from the comfort of your home.&nbsp\;&nbsp\;<br />\n<br />\n<span style="font-size: 20px\;"><a href="https://uniquelyurbandale.com/wp-content/uploads/2025/04/NEW-LINK-AD-Pompeii-Amalfi-Urbandale-EB-2025-Small.pdf"><strong><span style="background-color: rgb(255\, 255\, 0)\;">View full details and itinerary here!</span></strong></a></span><br />\n<br />\n<span style="font-size: 20px\;">Ready to book?<a href="https://centaur.adelmandiscoveries.com/centaur6/online/OPR_departureDateSelect?company=atg&amp\;tourId=001405POM2&amp\;groupId=1002925&amp\;depDate=10/22/2025">&nbsp\;</a><strong><a href="https://centaur.adelmandiscoveries.com/centaur6/online/OPR_departureDateSelect?company=atg&amp\;tourId=001405POM2&amp\;groupId=1002925&amp\;depDate=10/22/2025"><span style="background-color: rgb(255\, 255\, 0)\;">Complete this form!</span></a></strong></span>
LOCATION:Urbandale Chamber of Commerce Aisha R. Syed Board Room Realtor | Iowa Realty 2830 100th St.\, Ste. 110 Urbandale\, IA 50322 AND ONLINE using a Teams Link
UID:e.1185.17247
SEQUENCE:3
DTSTAMP:20260420T105915Z
URL:https://businesses.uniquelyurbandale.com/events/details/informational-session-urbandale-chamber-s-trip-to-the-amalfi-coast-pompeii-17247
END:VEVENT

END:VCALENDAR
