BEGIN:VCALENDAR
VERSION:2.0
PRODID:-//ChamberMaster//Event Calendar 2.0//EN
METHOD:PUBLISH
X-PUBLISHED-TTL:P3D
REFRESH-INTERVAL:P3D
CALSCALE:GREGORIAN
BEGIN:VEVENT
DTSTART:20231111T170000Z
DTEND:20231111T210000Z
X-MICROSOFT-CDO-ALLDAYEVENT:FALSE
SUMMARY:Homemakers Free Picture with Santa Event
DESCRIPTION:Bring the whole family to Homemakers to get a FREE picture taken with Santa! A FREE digital photo is included and will be sent via email following the event. *No photo retakes. One photo per family. Children must be accompanied by an adult. Digital photo will be sent via email no later than 4pm on 11/17/23.
X-ALT-DESC;FMTTYPE=text/html:Bring the whole family to Homemakers to get a FREE picture taken with Santa! A FREE digital photo is included and will be sent via email following the event. *No photo retakes. One photo per family. Children must be accompanied by an adult. Digital photo will be sent via email no later than 4pm on 11/17/23.
LOCATION:Homemakers Furniture 10215 Douglas Avenue Urbandale\, IA 50322
UID:e.1185.13164
SEQUENCE:3
DTSTAMP:20260421T225851Z
URL:https://businesses.uniquelyurbandale.com/events/details/homemakers-free-picture-with-santa-event-11-11-2023-13164
END:VEVENT

END:VCALENDAR
