BEGIN:VCALENDAR
VERSION:2.0
PRODID:-//ChamberMaster//Event Calendar 2.0//EN
METHOD:PUBLISH
X-PUBLISHED-TTL:P3D
REFRESH-INTERVAL:P3D
CALSCALE:GREGORIAN
BEGIN:VEVENT
DTSTART:20231207T000000Z
DTEND:20231207T013000Z
X-MICROSOFT-CDO-ALLDAYEVENT:FALSE
SUMMARY:Holiday Open House
DESCRIPTION:Join us for our first holiday open house and experience the joys of Des Moines Children's Museum. Light snacks and drinks will be available. Children\, families\, and other guests are welcome! Please RSVP
X-ALT-DESC;FMTTYPE=text/html:Join us for our first holiday open house and experience the joys of Des Moines Children&#39\;s Museum. Light snacks and drinks will be available. Children\, families\, and other guests are welcome! Please RSVP
LOCATION:1551 Valley West Dr. #108
UID:e.1185.13267
SEQUENCE:3
DTSTAMP:20260421T205811Z
URL:https://businesses.uniquelyurbandale.com/events/details/holiday-open-house-12-06-2023-13267
END:VEVENT

END:VCALENDAR
