BEGIN:VCALENDAR
VERSION:2.0
PRODID:-//ChamberMaster//Event Calendar 2.0//EN
METHOD:PUBLISH
X-PUBLISHED-TTL:P3D
REFRESH-INTERVAL:P3D
CALSCALE:GREGORIAN
BEGIN:VEVENT
DTSTART:20240224T020000Z
DTEND:20240224T040000Z
X-MICROSOFT-CDO-ALLDAYEVENT:FALSE
SUMMARY:Hold On
DESCRIPTION:FREE LIVE ENTERTAINMENT\n\nGenre: Rock
X-ALT-DESC;FMTTYPE=text/html:<p>FREE LIVE ENTERTAINMENT</p>\n\n<p>Genre: Rock</p>\n
LOCATION:Prairie Meadows Racetrack and Casino Finish Line Show Lounge (casino level 2)
UID:e.1185.13650
SEQUENCE:3
DTSTAMP:20260421T181449Z
URL:https://businesses.uniquelyurbandale.com/events/details/hold-on-02-23-2024-13650
END:VEVENT

END:VCALENDAR
