BEGIN:VCALENDAR
VERSION:2.0
PRODID:-//ChamberMaster//Event Calendar 2.0//EN
METHOD:PUBLISH
X-PUBLISHED-TTL:P3D
REFRESH-INTERVAL:P3D
CALSCALE:GREGORIAN
BEGIN:VEVENT
DTSTART:20260226T140000Z
DTEND:20260226T150000Z
X-MICROSOFT-CDO-ALLDAYEVENT:FALSE
SUMMARY:Glen Meadows Retirement Community: Community Partners Breakfast
DESCRIPTION:Get your day started off right at Glen Meadows. Meet our managers\, learn about our referral program\, and get to know fellow industry professionals over a delicious chef-inspired breakfast. Let's brainstorm ways we can partner to further improve the lives of seniors in our area! RSVP by February 23.\n\n\n\nCall Today: 515-418-9815
X-ALT-DESC;FMTTYPE=text/html:<span style="font-size:14px\;">Get your day started off right at Glen Meadows. Meet our managers\, learn about our referral program\, and get to know fellow industry professionals over a delicious chef-inspired breakfast. Let&#39\;s brainstorm ways we can partner to further improve the lives of seniors in our area! RSVP by February 23.<br />\n<br />\nCall Today: 515-418-9815</span>
LOCATION:Glen Meadows Retirement Community 850 S 60th St\, Building 1000 West Des Moines\, IA
UID:e.1185.17722
SEQUENCE:3
DTSTAMP:20260419T164725Z
URL:https://businesses.uniquelyurbandale.com/events/details/glen-meadows-retirement-community-community-partners-breakfast-17722
END:VEVENT

END:VCALENDAR
