BEGIN:VCALENDAR
VERSION:2.0
PRODID:-//ChamberMaster//Event Calendar 2.0//EN
METHOD:PUBLISH
X-PUBLISHED-TTL:P3D
REFRESH-INTERVAL:P3D
CALSCALE:GREGORIAN
BEGIN:VEVENT
DTSTART:20251021T133000Z
DTEND:20251021T143000Z
X-MICROSOFT-CDO-ALLDAYEVENT:FALSE
SUMMARY:genYP Leadership Committee Meeting
DESCRIPTION:genYP Leadership Committee Meeting
X-ALT-DESC;FMTTYPE=text/html:genYP Leadership Committee Meeting&nbsp\;&nbsp\;&nbsp\;&nbsp\;<br />\n&nbsp\;
LOCATION:Urbandale Chamber of Commerce Aisha R. Syed Board Room REALTOR | Iowa Realty 2830 100th St.\, Suite 110\,Urbandale\, IA 50322
UID:e.1185.16034
SEQUENCE:3
DTSTAMP:20260420T021102Z
URL:https://businesses.uniquelyurbandale.com/events/details/genyp-leadership-committee-meeting-10-21-2025-16034
END:VEVENT

END:VCALENDAR
