BEGIN:VCALENDAR
VERSION:2.0
PRODID:-//ChamberMaster//Event Calendar 2.0//EN
METHOD:PUBLISH
X-PUBLISHED-TTL:P3D
REFRESH-INTERVAL:P3D
CALSCALE:GREGORIAN
BEGIN:VEVENT
DTSTART:20250121T223000Z
DTEND:20250122T000000Z
X-MICROSOFT-CDO-ALLDAYEVENT:FALSE
SUMMARY:genYP Kickoff Event
DESCRIPTION:Start the year with energy\, connections\, and opportunities!\n\nJoin us for the genYP Membership Kickoff Party\, an exciting evening designed to introduce you to the benefits of being part of the genYP community. Whether you're a young professional looking to grow your network\, gain new skills\, or simply connect with like-minded peers\, this event is the perfect place to start.\n\nThis event is open to young professionals in all industries who are interested in building connections and becoming part of a dynamic\, supportive community.\n\nDon't miss this chance to take the first step toward a brighter future!\n\nRSVP today to secure your spot and kick off your journey with genYP!\n\nFeel free to bring a friend or colleague new faces are always welcome!\n\n\n\nReady to join? Complete the brief application here!
X-ALT-DESC;FMTTYPE=text/html:<p><span style="font-family:arial\;">Start the year with energy\, connections\, and opportunities!</span></p>\n\n<p><span style="font-family:arial\;">Join us for the genYP Membership Kickoff Party\, an exciting evening designed to introduce you to the benefits of being part of the genYP community. Whether you&#39\;re a young professional looking to grow your network\, gain new skills\, or simply connect with like-minded peers\, this event is the perfect place to start.</span></p>\n\n<p><span style="font-family:arial\;">This event is open to young professionals in all industries who are interested in building connections and becoming part of a dynamic\, supportive community.</span></p>\n\n<p><span style="font-family:arial\;">Don&rsquo\;t miss this chance to take the first step toward a brighter future!</span></p>\n\n<p><span style="font-family:arial\;">RSVP today to secure your spot and kick off your journey with genYP!</span></p>\n\n<p><span style="font-family:arial\;"><em>Feel free to bring a friend or colleague&mdash\;new faces are always welcome!<br />\n<br />\n<span style="font-size:18px\;"><strong>Ready to join? Complete the brief application <a href="https://uniquelyurbandale.com/genyp-form/">here</a>!</strong></span></em></span></p>\n
LOCATION:5291 Stoney Creek Ct\, Johnston\, IA 50131
UID:e.1185.13274
SEQUENCE:3
DTSTAMP:20260420T162824Z
URL:https://businesses.uniquelyurbandale.com/events/details/genyp-kickoff-event-13274
END:VEVENT

END:VCALENDAR
