BEGIN:VCALENDAR
VERSION:2.0
PRODID:-//ChamberMaster//Event Calendar 2.0//EN
METHOD:PUBLISH
X-PUBLISHED-TTL:P3D
REFRESH-INTERVAL:P3D
CALSCALE:GREGORIAN
BEGIN:VEVENT
DTSTART:20241114T153000Z
DTEND:20241114T163000Z
X-MICROSOFT-CDO-ALLDAYEVENT:FALSE
SUMMARY:genYP Civic Engagement Committee Meeting
DESCRIPTION:This committee meets monthly with the intention of increasing genYP's involvement in the community as well as genYP's awareness of the community. The committee acts as the liaison to our chamber's non-profit members\, seeking out opportunities for genYP to be of assistance and involved.
X-ALT-DESC;FMTTYPE=text/html:<p class="ydpcfb5fc95yiv8652373511msonormal"><span style="color: rgb(38\, 40\, 42)\; font-family: arial\;">This committee meets monthly with the intention of increasing genYP&rsquo\;s involvement in the community as well as genYP&rsquo\;s awareness of the community. The committee acts as the liaison to our chamber&rsquo\;s non-profit members\, seeking out opportunities for genYP to be of assistance and involved.</span></p>\n
LOCATION:virtual\, please contact the Chair\, Holly Adams (holly@adamsfamrealty.com)\, for a link.
UID:e.1185.9889
SEQUENCE:3
DTSTAMP:20260419T143225Z
URL:https://businesses.uniquelyurbandale.com/events/details/genyp-civic-engagement-committee-meeting-11-19-2024-9889
END:VEVENT

END:VCALENDAR
