BEGIN:VCALENDAR
VERSION:2.0
PRODID:-//ChamberMaster//Event Calendar 2.0//EN
METHOD:PUBLISH
X-PUBLISHED-TTL:P3D
REFRESH-INTERVAL:P3D
CALSCALE:GREGORIAN
BEGIN:VEVENT
DTSTART:20250213T153000Z
DTEND:20250213T163000Z
X-MICROSOFT-CDO-ALLDAYEVENT:FALSE
SUMMARY:genYP Civic Engagement Committee Meeting
DESCRIPTION:This committee meets monthly with the intention of increasing genYP's involvement in the community as well as genYP's awareness of the community. The committee acts as the liaison to our chamber's non-profit members\, seeking out opportunities for genYP to be of assistance and involved.\n\n\n\nChair: Daycen Douglass\, ddouglass@aowealthadvisory.com\n\nCo-Chair: Bryanne Hensley\,  bryanne.hensley@gmail.com
X-ALT-DESC;FMTTYPE=text/html:<p class="ydpcfb5fc95yiv8652373511msonormal"><span style="color: rgb(38\, 40\, 42)\; font-family: arial\;">This committee meets monthly with the intention of increasing genYP&rsquo\;s involvement in the community as well as genYP&rsquo\;s awareness of the community. The committee acts as the liaison to our chamber&rsquo\;s non-profit members\, seeking out opportunities for genYP to be of assistance and involved.<br />\n<br />\n<strong>Chai</strong>r<strong>:</strong> Daycen Douglass\, ddouglass@aowealthadvisory.com</span><br />\n<span style="color: rgb(38\, 40\, 42)\; font-family: arial\;"><strong>Co-Chair:</strong> Bryanne Hensley\,&nbsp\;&nbsp\;bryanne.hensley@gmail.com</span></p>\n
LOCATION:Virtually\, please contact Chair (Daycen\, ddouglass@aowealthadvisory.com) for the link.
UID:e.1185.9892
SEQUENCE:3
DTSTAMP:20260420T150822Z
URL:https://businesses.uniquelyurbandale.com/events/details/genyp-civic-engagement-committee-meeting-02-18-2025-9892
END:VEVENT

END:VCALENDAR
