BEGIN:VCALENDAR
VERSION:2.0
PRODID:-//ChamberMaster//Event Calendar 2.0//EN
METHOD:PUBLISH
X-PUBLISHED-TTL:P3D
REFRESH-INTERVAL:P3D
CALSCALE:GREGORIAN
BEGIN:VEVENT
DTSTART:20240227T130000Z
DTEND:20240228T000000Z
X-MICROSOFT-CDO-ALLDAYEVENT:FALSE
SUMMARY:Free Injury Screen Day - Kinetic Edge Physical Therapy
DESCRIPTION:Struggling with pain or movement issues? Have an injury that you still haven't quite recovered from? Kinetic Edge Physical Therapy will be offering a Free Injury Screen Day on Tuesday\, February 27 only! Spots are limited\, so call our Des Moines clinic at 515-309-4706 or visit www.kineticedgept.com to get scheduled with one of our movement experts!
X-ALT-DESC;FMTTYPE=text/html:Struggling with pain or movement issues? Have an injury that you still haven&#39\;t quite recovered from? Kinetic Edge Physical Therapy will be offering a Free Injury Screen Day on Tuesday\, February 27 only! Spots are limited\, so call our Des Moines clinic at 515-309-4706 or visit www.kineticedgept.com to get scheduled with one of our movement experts!
LOCATION:Kinetic Edge Physical Therapy 6000 Grand Ave Suite K\, Des Moines\, IA 50312
UID:e.1185.15010
SEQUENCE:3
DTSTAMP:20260421T181504Z
URL:https://businesses.uniquelyurbandale.com/events/details/free-injury-screen-day-kinetic-edge-physical-therapy-15010
END:VEVENT

END:VCALENDAR
