BEGIN:VCALENDAR
VERSION:2.0
PRODID:-//ChamberMaster//Event Calendar 2.0//EN
METHOD:PUBLISH
X-PUBLISHED-TTL:P3D
REFRESH-INTERVAL:P3D
CALSCALE:GREGORIAN
BEGIN:VEVENT
DTSTART:20241207T180000Z
DTEND:20241207T210000Z
X-MICROSOFT-CDO-ALLDAYEVENT:FALSE
SUMMARY:Family Christmas
DESCRIPTION:Join us for old-fashioned holiday fun! Saturday\, December 7   Noon-3 p.m. $9 for ages 2 and up ($8 for members\; 1 and under free) Buildings are heated. Bundle up for wagon rides! Hear the sounds\, see the sights\, and smell the smells of a 19th-century Christmas. Listen to the jingling bells as you take a horse-drawn wagon ride.* Chime in with the carolers at the historic Flynn Mansion. Watch demonstrations of old-fashioned letterpress printing and the Victorian "language of the fan." Make an orange-clove pomander and sniff to identify spices at the Drug Store. Take a whiff of the traditional goodies in the wood-fired oven at the Tangen Home. Make crafts and decorate cookies to take home. Hear stories and help us trim our tree. And don't forget a visit with good old St. Nick!
X-ALT-DESC;FMTTYPE=text/html:Join us for old-fashioned holiday fun! Saturday\, December 7 &bull\; Noon-3 p.m. $9 for ages 2 and up ($8 for members\; 1 and under free) Buildings are heated. Bundle up for wagon rides! Hear the sounds\, see the sights\, and smell the smells of a 19th-century Christmas. Listen to the jingling bells as you take a horse-drawn wagon ride.* Chime in with the carolers at the historic Flynn Mansion. Watch demonstrations of old-fashioned letterpress printing and the Victorian &ldquo\;language of the fan.&rdquo\; Make an orange-clove pomander and sniff to identify spices at the Drug Store. Take a whiff of the traditional goodies in the wood-fired oven at the Tangen Home. Make crafts and decorate cookies to take home. Hear stories and help us trim our tree. And don&rsquo\;t forget a visit with good old St. Nick!
LOCATION:Living History Farms 11121 Hickman Rd Urbandale\, IA
UID:e.1185.15021
SEQUENCE:3
DTSTAMP:20260421T013048Z
URL:https://businesses.uniquelyurbandale.com/events/details/family-christmas-15021
END:VEVENT

END:VCALENDAR
