BEGIN:VCALENDAR
VERSION:2.0
PRODID:-//ChamberMaster//Event Calendar 2.0//EN
METHOD:PUBLISH
X-PUBLISHED-TTL:P3D
REFRESH-INTERVAL:P3D
CALSCALE:GREGORIAN
BEGIN:VEVENT
DTSTART:20241115T210000Z
DTEND:20241115T230000Z
X-MICROSOFT-CDO-ALLDAYEVENT:FALSE
SUMMARY:Electronic Asset Security Open House
DESCRIPTION:This America Recycles Day\, we're doing something special\, and we'd love for you to be a part of it! We're opening our doors at Electronic Asset Security (EAS) for an exclusive\, behind-the-scenes tour of our facility. Join us on November 15 from 3-5 pm to see how we safely and responsibly recycle electronics while protecting your personal and business data.\n\n\n\nHere's what you can expect:\n\nFacility Tours: Get a close-up look at our recycling process and learn how your old devices get a new\, responsible life.\n\n\n\nData Protection Insights: With the new Iowa Consumer Data Protection Act\, we're all about keeping your data safe. We'll share tips on securely disposing of your electronics and how we meet the latest data protection standards.\n\n\n\nQ&A with the EAS Team: Ask us anything! We'll be here to chat about all things e-waste\, data security\, and sustainability.\n\n\n\nLight Snacks and Drinks: Make yourself at home with a bite to eat and feel free to talk to us about your questions over drinks.
X-ALT-DESC;FMTTYPE=text/html:This America Recycles Day\, we&rsquo\;re doing something special\, and we&rsquo\;d love for you to be a part of it! We&rsquo\;re opening our doors at Electronic Asset Security (EAS) for an exclusive\, behind-the-scenes tour of our facility. Join us on November 15 from 3-5 pm to see how we safely and responsibly recycle electronics while protecting your personal and business data.<br />\n<br />\n<strong>Here&rsquo\;s what you can expect:</strong><br />\n<strong>Facility Tours</strong>: Get a close-up look at our recycling process and learn how your old devices get a new\, responsible life.<br />\n<br />\n<strong>Data Protection Insights</strong>: With the new Iowa Consumer Data Protection Act\, we&rsquo\;re all about keeping your data safe. We&rsquo\;ll share tips on securely disposing of your electronics and how we meet the latest data protection standards.<br />\n<br />\n<strong>Q&amp\;A with the EAS Team</strong>: Ask us anything! We&rsquo\;ll be here to chat about all things e-waste\, data security\, and sustainability.<br />\n<br />\n<strong>Light Snacks and Drinks: </strong>Make yourself at home with a bite to eat and feel free to talk to us about your questions over drinks.
LOCATION:4331 112th St. Urbandale\, IA 50322
UID:e.1185.15932
SEQUENCE:3
DTSTAMP:20260419T141549Z
URL:https://businesses.uniquelyurbandale.com/events/details/electronic-asset-security-open-house-15932
END:VEVENT

END:VCALENDAR
