BEGIN:VCALENDAR
VERSION:2.0
PRODID:-//ChamberMaster//Event Calendar 2.0//EN
METHOD:PUBLISH
X-PUBLISHED-TTL:P3D
REFRESH-INTERVAL:P3D
CALSCALE:GREGORIAN
BEGIN:VEVENT
DTSTART:20220215T180000Z
DTEND:20220215T190000Z
X-MICROSOFT-CDO-ALLDAYEVENT:FALSE
SUMMARY:Eide Bailly Inspired Perspectives | 2022 Sales Tax Changes and Your Tech's Role
DESCRIPTION:Course Description: The constantly changing landscape of sales tax laws in recent years has made it difficult for businesses to comfortably stay in compliance. Understanding upcoming sales tax trends   including new rules\, regulations and available technology solutions   can help your organization find firmer footing in today's shifting environment. Join us as we discuss 2022 sales tax changes and how your technology can help you remain compliant and forward-looking. Learning Objectives: Discuss 2022 sales tax changes and trends. Theorize upcoming legislative changes and proposed bills. Determine how to reduce your liabilities and ensure compliance. Explore how technology can play a role in your accounting department's success.
X-ALT-DESC;FMTTYPE=text/html:Course Description: The constantly changing landscape of sales tax laws in recent years has made it difficult for businesses to comfortably stay in compliance. Understanding upcoming sales tax trends &ndash\; including new rules\, regulations and available technology solutions &ndash\; can help your organization find firmer footing in today&rsquo\;s shifting environment. Join us as we discuss 2022 sales tax changes and how your technology can help you remain compliant and forward-looking. Learning Objectives: Discuss 2022 sales tax changes and trends. Theorize upcoming legislative changes and proposed bills. Determine how to reduce your liabilities and ensure compliance. Explore how technology can play a role in your accounting department&#39\;s success.
LOCATION:Via webinar
UID:e.1185.12314
SEQUENCE:3
DTSTAMP:20260425T030511Z
URL:https://businesses.uniquelyurbandale.com/events/details/eide-bailly-inspired-perspectives-2022-sales-tax-changes-and-your-tech-s-role-12314
END:VEVENT

END:VCALENDAR
