BEGIN:VCALENDAR
VERSION:2.0
PRODID:-//ChamberMaster//Event Calendar 2.0//EN
METHOD:PUBLISH
X-PUBLISHED-TTL:P3D
REFRESH-INTERVAL:P3D
CALSCALE:GREGORIAN
BEGIN:VEVENT
DTSTART:20231207T000000Z
DTEND:20231207T013000Z
X-MICROSOFT-CDO-ALLDAYEVENT:FALSE
SUMMARY:Des Moines Children's Museum Holiday Open House
DESCRIPTION:Join us at the museum for our first Holiday Open House and experience the joys of Des Moines Children's Museum. Light snacks and drinks will be provided. Children\, familes\, and other guests are welcome! RSVP https://forms.gle/CNhqqe2Ms5Dhng836
X-ALT-DESC;FMTTYPE=text/html:Join us at the museum for our first Holiday Open House and experience the joys of Des Moines Children&#39\;s Museum. Light snacks and drinks will be provided. Children\, familes\, and other guests are welcome! RSVP&nbsp\;https://forms.gle/CNhqqe2Ms5Dhng836<br />\n&nbsp\;
LOCATION:Des Moines Children's Museum 1551 Valley West DR. #108 West Des Moines Iowa 50266
UID:e.1185.13348
SEQUENCE:3
DTSTAMP:20260421T210751Z
URL:https://businesses.uniquelyurbandale.com/events/details/des-moines-children-s-museum-holiday-open-house-13348
END:VEVENT

END:VCALENDAR
