BEGIN:VCALENDAR
VERSION:2.0
PRODID:-//ChamberMaster//Event Calendar 2.0//EN
METHOD:PUBLISH
X-PUBLISHED-TTL:P3D
REFRESH-INTERVAL:P3D
CALSCALE:GREGORIAN
BEGIN:VEVENT
DTSTART:20200624T163000Z
DTEND:20200624T180000Z
X-MICROSOFT-CDO-ALLDAYEVENT:FALSE
SUMMARY:Contacts & Contracts Wednesday PM Group\, Presented by Mark Courter State Farm Insurance
DESCRIPTION:Contacts & Contracts Wednesday PM Group Members: Please register here if you would like to attend the meeting in-person. Registration will be limited to 12 group members.\n\n\n\n\n\nConnecting U! Contacts & Contracts is a group formed for members to develop deeper business relationships with the purpose of lead sharing and referrals.\nThe group is limited by size and industry. Membership to the group is annual and members must commit to coming to 90% of the meetings\, which are held every month from 11:30-1:00 pm in the RODAN Board Room at the Chamber office\, located at 2830 100th Street\, Ste #110.\, Urbandale..\n\nReservations to participate monthly are required.\n\nPlease contact Tiffany Menke (tmenke@urbandalechamber.com) if you are interested in participating in this group.  Cost is $50 per year.
X-ALT-DESC;FMTTYPE=text/html:<span style="font-size:14px\;"><span style="font-family:arial\;"><strong>Contacts &amp\; Contracts Wednesday PM Group Members: Please register here if you would like to attend the meeting in-person.&nbsp\;</strong></span></span><strong style="font-family: arial\; font-size: 14px\;">Registration will be limited to 12 group members.</strong><br />\n<br />\n<br />\nConnecting U! Contacts &amp\; Contracts is a group formed for members to develop deeper business relationships with the purpose of lead sharing and referrals.\n<p>The group is limited by size and industry. Membership to the group is annual and members must commit to coming to 90% of the meetings\, which are held every month from 11:30-1:00 pm in the RODAN Board Room at the Chamber office\, located at 2830 100th Street\, Ste #110.\, Urbandale..</p>\n\n<p>Reservations to participate monthly are required.</p>\n\n<p>Please contact Tiffany Menke (<u>tmenke@urbandalechamber.com</u>) if you are interested in participating in this group. &nbsp\;Cost is $50 per year.</p>\n
LOCATION:Urbandale Chamber of Commerce
UID:e.1185.10921
SEQUENCE:3
DTSTAMP:20260423T231927Z
URL:https://businesses.uniquelyurbandale.com/events/details/contacts-contracts-wednesday-pm-group-presented-by-mark-courter-state-farm-insurance-10921
END:VEVENT

END:VCALENDAR
