BEGIN:VCALENDAR
VERSION:2.0
PRODID:-//ChamberMaster//Event Calendar 2.0//EN
METHOD:PUBLISH
X-PUBLISHED-TTL:P3D
REFRESH-INTERVAL:P3D
CALSCALE:GREGORIAN
BEGIN:VEVENT
DTSTART:20250415T163000Z
DTEND:20250415T180000Z
X-MICROSOFT-CDO-ALLDAYEVENT:FALSE
SUMMARY:Connector Meeting
DESCRIPTION:The Connectors promote and support the Urbandale Chamber of Commerce as the welcoming arm of the Chamber. The Urbandale Chamber would not be as successful without our Connectors! These volunteers assist in connecting members to one another and helping new members learn about all of the benefits of the Chamber. At our 100+ annual events\, Connectors greet members at event registrations\, lead table conversations\, and promote the Chamber and its purpose. It is a privilege to be a part of this group and it shall be limited in number not to exceed 10% of the membership.\n\nInterested in becoming a Connector? Urbandale Chamber Connectors are seen as leaders in the metro business community. This positioning enhances one's opportunities to develop meaningful business relationships and elevate their overall image.  Learn more about the Connector program or email the Connector Chair\, Zach Bouslog at Zach.Bouslog@morganstanley.com
X-ALT-DESC;FMTTYPE=text/html:<p font-size:="" style="color: rgb(51\, 51\, 51)\; font-family: sans-serif\, Arial\, Verdana\, " trebuchet=""><span style="font-size:16px\;"><span style="font-family:arial\;">The Connectors promote and support the Urbandale Chamber of Commerce as the welcoming arm of the Chamber.&nbsp\;<span style="box-sizing: border-box\; margin: 0px\; padding: 0px\; border: 0px\; outline: 0px\; text-size-adjust: 100%\; vertical-align: baseline\; background: transparent\;">The Urbandale Chamber would not be as successful without our Connectors!&nbsp\;These volunteers assist in connecting members to one another and helping new members learn about all of the benefits of the Chamber. At our 100+ annual events\, Connectors greet members at event registrations\, lead table conversations\, and promote the Chamber and its purpose.&nbsp\;</span>It is a privilege to be a part of this group and it shall be limited in number not to exceed 10% of the membership.</span></span></p>\n\n<p font-size:="" style="color: rgb(51\, 51\, 51)\; font-family: sans-serif\, Arial\, Verdana\, " trebuchet=""><span style="font-size:16px\;"><span style="font-family:arial\;"><strong><span style="background:white\;"><span style="color:#333333\;">Interested in becoming a Connector?</span></span></strong><span style="background:white\;"><span style="color:#333333\;">&nbsp\;Urbandale Chamber Connectors are seen as leaders in the metro business community. This positioning enhances one&rsquo\;s opportunities to develop meaningful business relationships and elevate their overall image.&nbsp\;&nbsp\;<a href="https://uniquelyurbandale.com/programs/the-connectors/"><span style="color:#0782C1\;">Learn more about the Connector program</span></a>&nbsp\;or&nbsp\;</span><span style="color:#000000\;">email</span><span style="color:#333333\;">&nbsp\;the Connector Chair\, </span></span></span></span><span style="font-family: arial\; font-size: 16px\;">Zach Bouslog</span><span style="font-family: arial\; font-size: 16px\;">&nbsp\;at&nbsp\;</span><a href="mailto:Zach.Bouslog@morganstanley.com" style="font-family: arial\; font-size: 16px\;">Zach.Bouslog@morganstanley.com</a></p>\n\n<p><span _fck_bookmark="1" style="display: none">&nbsp\;</span></p>\n
LOCATION:Wasabi Urbandale 2301 Rocklyn Dr. Urbandale
UID:e.1185.15849
SEQUENCE:3
DTSTAMP:20260420T121458Z
URL:https://businesses.uniquelyurbandale.com/events/details/connector-meeting-15849
END:VEVENT

END:VCALENDAR
