BEGIN:VCALENDAR
VERSION:2.0
PRODID:-//ChamberMaster//Event Calendar 2.0//EN
METHOD:PUBLISH
X-PUBLISHED-TTL:P3D
REFRESH-INTERVAL:P3D
CALSCALE:GREGORIAN
BEGIN:VEVENT
DTSTART:20200609T163000Z
DTEND:20200609T180000Z
X-MICROSOFT-CDO-ALLDAYEVENT:FALSE
SUMMARY:Virtual Connector Meeting
DESCRIPTION:If you are interested in becoming a Chamber Connector\, please contact our chair: Jay Mathes (welcomelg@edencrestliving.com).\n\n\n\nConnectors promote and support the role of the Urbandale Chamber of Commerce as the welcoming arm of the Chamber.  It is a privilege to be a part of this group and it shall be limited in number not to exceed 10% of the membership.\n\nMeetings are held monthly on the second Tuesday from 11:30-1:00 pm.  Locations will vary from month to month.\n\nThis month the meeting will be held virtually.\n\n\n\nOur Featured Connectors are:   Sandee Cook & Dave Russell
X-ALT-DESC;FMTTYPE=text/html:<p style="color: rgb(51\, 51\, 51)\; font-family: sans-serif\, Arial\, Verdana\, &quot\;Trebuchet MS&quot\;\; font-size: 13px\;"><span style="font-size: 10pt\;">If you are interested in becoming a Chamber Connector\, please contact our chair: Jay Mathes&nbsp\;(<a href="mailto:welcomelg@edencrestliving.com" style="color: rgb(7\, 130\, 193)\;">welcomelg@edencrestliving.com</a>).<br />\n<br />\nConnectors promote and support the role of the Urbandale Chamber of Commerce as the welcoming arm of the Chamber.&nbsp\; It is a privilege to be a part of this group and it shall be limited in number not to exceed 10% of the membership.</span></p>\n\n<p style="color: rgb(51\, 51\, 51)\; font-family: sans-serif\, Arial\, Verdana\, &quot\;Trebuchet MS&quot\;\; font-size: 13px\;"><span style="font-size: 10pt\;">Meetings are held monthly on the second Tuesday from 11:30-1:00 pm.&nbsp\; Locations will vary from month to month.</span></p>\n\n<p style="color: rgb(51\, 51\, 51)\; font-family: sans-serif\, Arial\, Verdana\, &quot\;Trebuchet MS&quot\;\; font-size: 13px\;"><span style="font-size: 10pt\;">This month&nbsp\;the meeting will be held virtually.</span><br />\n<br />\n<u><strong>Our Featured Connectors are:</strong></u><strong>&nbsp\; &nbsp\;</strong><strong><span style="font-size: 14px\;">Sandee Cook &amp\; Dave Russell</span></strong></p>\n\n<p><span _fck_bookmark="1" style="display: none">&nbsp\;</span></p>\n
LOCATION:A Zoom link will be sent to the Connector group.
UID:e.1185.10795
SEQUENCE:3
DTSTAMP:20260423T230106Z
URL:https://businesses.uniquelyurbandale.com/events/details/connector-meeting-10795
END:VEVENT

END:VCALENDAR
