BEGIN:VCALENDAR
VERSION:2.0
PRODID:-//ChamberMaster//Event Calendar 2.0//EN
METHOD:PUBLISH
X-PUBLISHED-TTL:P3D
REFRESH-INTERVAL:P3D
CALSCALE:GREGORIAN
BEGIN:VEVENT
DTSTART:20210412T210000Z
DTEND:20210412T220000Z
X-MICROSOFT-CDO-ALLDAYEVENT:FALSE
SUMMARY:Connect @4
DESCRIPTION:The Connect @4 networking event has loosely structured networking that attracts people from a variety of businesses! Similar to the AM Exchange events\, programming is designed to strengthen old relationships and build new friendships.
X-ALT-DESC;FMTTYPE=text/html:<span style="color: rgb(68\, 68\, 68)\; font-family: Arial\, Helvetica\, sans-serif\; font-size: 14px\;">The Connect @4 networking event has loosely structured networking that attracts people from a variety of businesses! Similar to the AM Exchange events\, programming is designed to strengthen old relationships and build new friendships.</span>\n<div style="text-align: center\;">&nbsp\;</div>\n
LOCATION:Urbandale Chamber of Commerce | 2830 100th Street\, Suite 110\, Urbandale\, IA 50322 In-person registration is full. Participants can attend virtually via Zoom event as well.
UID:e.1185.11045
SEQUENCE:3
DTSTAMP:20260424T123833Z
URL:https://businesses.uniquelyurbandale.com/events/details/connect-4-11045
END:VEVENT

END:VCALENDAR
