BEGIN:VCALENDAR
VERSION:2.0
PRODID:-//ChamberMaster//Event Calendar 2.0//EN
METHOD:PUBLISH
X-PUBLISHED-TTL:P3D
REFRESH-INTERVAL:P3D
CALSCALE:GREGORIAN
BEGIN:VEVENT
DTSTART:20210416T150000Z
DTEND:20210416T154500Z
X-MICROSOFT-CDO-ALLDAYEVENT:FALSE
SUMMARY:Child-Focused Business Round table - Cancelled
DESCRIPTION:If your business/organization is focused on working with children\, this round table is for you!\n\n\n\nThe Urbandale Chamber has designed a roundtable event to connect members who focus on children to learn from each other\, receive solutions to challenges\, build relationships to possibly cross promote each other and network!\n\n\n\nWe will be holding this event both in person and virtually.  Registration is required and space is limited for in-person registrations.
X-ALT-DESC;FMTTYPE=text/html:If your business/organization is focused on working with children\, this round table is for you!<br />\n<br />\nThe Urbandale Chamber has designed a roundtable event to connect members who focus on children to learn from each other\, receive solutions to challenges\, build relationships to possibly cross promote each other and network!<br />\n<br />\nWe will be holding this event both in person and virtually.&nbsp\; Registration is required and space is limited for in-person registrations.&nbsp\;&nbsp\;&nbsp\;&nbsp\;
LOCATION:Zoom
UID:e.1185.11212
SEQUENCE:3
DTSTAMP:20260424T124520Z
URL:https://businesses.uniquelyurbandale.com/events/details/child-focused-business-round-table-cancelled-04-16-2021-11212
END:VEVENT

END:VCALENDAR
