BEGIN:VCALENDAR
VERSION:2.0
PRODID:-//ChamberMaster//Event Calendar 2.0//EN
METHOD:PUBLISH
X-PUBLISHED-TTL:P3D
REFRESH-INTERVAL:P3D
CALSCALE:GREGORIAN
BEGIN:VEVENT
DTSTART:20250325T133000Z
DTEND:20250325T134500Z
X-MICROSOFT-CDO-ALLDAYEVENT:FALSE
SUMMARY:Chamber Exclusive Informational Session | Paychex PEO
DESCRIPTION:Stay after the AM Exchange on Tuesday\, March 25th to receive an informal 15-minute overview of the Chamber's partnership with PaychexHR.  This session will review the PEO program and how Urbandale Chamber members can save money through this program.
X-ALT-DESC;FMTTYPE=text/html:Stay after the AM Exchange on Tuesday\, March 25th to receive an informal 15-minute overview of the Chamber&#39\;s partnership with PaychexHR.&nbsp\; This session will review the PEO program and how Urbandale Chamber members can save money through this program.&nbsp\;&nbsp\;
LOCATION:PaychexHR
UID:e.1185.17078
SEQUENCE:3
DTSTAMP:20260420T133215Z
URL:https://businesses.uniquelyurbandale.com/events/details/chamber-exclusive-informational-session-paychex-peo-17078
END:VEVENT

END:VCALENDAR
